BEGIN:VCALENDAR
VERSION:2.0
PRODID:-//Cans For Kids - ECPv6.14.2//NONSGML v1.0//EN
CALSCALE:GREGORIAN
METHOD:PUBLISH
X-ORIGINAL-URL:https://cansforkids.org
X-WR-CALDESC:Events for Cans For Kids
REFRESH-INTERVAL;VALUE=DURATION:PT1H
X-Robots-Tag:noindex
X-PUBLISHED-TTL:PT1H
BEGIN:VTIMEZONE
TZID:UTC
BEGIN:STANDARD
TZOFFSETFROM:+0000
TZOFFSETTO:+0000
TZNAME:UTC
DTSTART:20220101T000000
END:STANDARD
END:VTIMEZONE
BEGIN:VEVENT
DTSTART;TZID=UTC:20221130T100000
DTEND;TZID=UTC:20221130T120000
DTSTAMP:20260421T221007
CREATED:20230108T061518Z
LAST-MODIFIED:20230201T155303Z
UID:4169-1669802400-1669809600@cansforkids.org
SUMMARY:WECAN clean up day
DESCRIPTION:As part of our WE CAN project\, we are organising a clean up day\, collecting litter from the area around the University of Nicosia. Free pizza at the end of the event! \nThe WE CAN project benefits from a grant under the Active Citizens Fund Cyprus programme\, funded by Iceland\, Liechtenstein and Norway\, through the EEA and Norway Grants 2014-2021.
URL:https://cansforkids.org/event/wecan-clean-up-day/
END:VEVENT
END:VCALENDAR