BEGIN:VCALENDAR
VERSION:2.0
PRODID:-//Cans For Kids - ECPv6.14.2//NONSGML v1.0//EN
CALSCALE:GREGORIAN
METHOD:PUBLISH
X-WR-CALNAME:Cans For Kids
X-ORIGINAL-URL:https://cansforkids.org
X-WR-CALDESC:Events for Cans For Kids
REFRESH-INTERVAL;VALUE=DURATION:PT1H
X-Robots-Tag:noindex
X-PUBLISHED-TTL:PT1H
BEGIN:VTIMEZONE
TZID:UTC
BEGIN:STANDARD
TZOFFSETFROM:+0000
TZOFFSETTO:+0000
TZNAME:UTC
DTSTART:20220101T000000
END:STANDARD
END:VTIMEZONE
BEGIN:VEVENT
DTSTART;TZID=UTC:20221231T100000
DTEND;TZID=UTC:20221231T110000
DTSTAMP:20260421T221253
CREATED:20221030T164157Z
LAST-MODIFIED:20221030T164157Z
UID:4132-1672480800-1672484400@cansforkids.org
SUMMARY:New Year day off
DESCRIPTION:Happy New Year! Thank you all for your help in 2022; bring it on in 2023!
URL:https://cansforkids.org/event/new-year-day-off/
END:VEVENT
END:VCALENDAR