BEGIN:VCALENDAR
VERSION:2.0
PRODID:-//Cans For Kids - ECPv6.14.2//NONSGML v1.0//EN
CALSCALE:GREGORIAN
METHOD:PUBLISH
X-ORIGINAL-URL:https://cansforkids.org
X-WR-CALDESC:Events for Cans For Kids
REFRESH-INTERVAL;VALUE=DURATION:PT1H
X-Robots-Tag:noindex
X-PUBLISHED-TTL:PT1H
BEGIN:VTIMEZONE
TZID:UTC
BEGIN:STANDARD
TZOFFSETFROM:+0000
TZOFFSETTO:+0000
TZNAME:UTC
DTSTART:20240101T000000
END:STANDARD
END:VTIMEZONE
BEGIN:VEVENT
DTSTART;TZID=UTC:20240119T200000
DTEND;TZID=UTC:20240119T230000
DTSTAMP:20260422T224531
CREATED:20240129T055830Z
LAST-MODIFIED:20240129T055830Z
UID:4487-1705694400-1705705200@cansforkids.org
SUMMARY:Quiz Night
DESCRIPTION:Please note new venue! Yummy snacks and platters available. €5 entry fee per person; teams of six\, please\, or come on your own and join a team. It’s a fun way to meet new people. Prizes kindly donated by Vinologie.
URL:https://cansforkids.org/event/quiz-night-3/
LOCATION:Καφενείο η μικρή Ροδιά Πλατεία Κυριάκου Καραολή 5 2108 Nicosia\, Πλατεία Κυριάκου Καραολή 5 2108 Nicosia\, Nicosia\, Cyprus
END:VEVENT
END:VCALENDAR