BEGIN:VCALENDAR
VERSION:2.0
PRODID:-//Cans For Kids - ECPv6.14.2//NONSGML v1.0//EN
CALSCALE:GREGORIAN
METHOD:PUBLISH
X-ORIGINAL-URL:https://cansforkids.org
X-WR-CALDESC:Events for Cans For Kids
REFRESH-INTERVAL;VALUE=DURATION:PT1H
X-Robots-Tag:noindex
X-PUBLISHED-TTL:PT1H
BEGIN:VTIMEZONE
TZID:UTC
BEGIN:STANDARD
TZOFFSETFROM:+0000
TZOFFSETTO:+0000
TZNAME:UTC
DTSTART:20240101T000000
END:STANDARD
END:VTIMEZONE
BEGIN:VEVENT
DTSTART;TZID=UTC:20240415T200000
DTEND;TZID=UTC:20240415T220000
DTSTAMP:20260423T050345
CREATED:20240325T091118Z
LAST-MODIFIED:20240325T091118Z
UID:4533-1713211200-1713218400@cansforkids.org
SUMMARY:Greek Quiz Night
DESCRIPTION:Our fun quiz night for Greek speakers!
URL:https://cansforkids.org/event/greek-quiz-night-2/
LOCATION:Ταβέρνα “Φιλοθέα”\, Cyprus
END:VEVENT
END:VCALENDAR