BEGIN:VCALENDAR
VERSION:2.0
PRODID:-//Cans For Kids - ECPv6.14.2//NONSGML v1.0//EN
CALSCALE:GREGORIAN
METHOD:PUBLISH
X-WR-CALNAME:Cans For Kids
X-ORIGINAL-URL:https://cansforkids.org
X-WR-CALDESC:Events for Cans For Kids
REFRESH-INTERVAL;VALUE=DURATION:PT1H
X-Robots-Tag:noindex
X-PUBLISHED-TTL:PT1H
BEGIN:VTIMEZONE
TZID:UTC
BEGIN:STANDARD
TZOFFSETFROM:+0000
TZOFFSETTO:+0000
TZNAME:UTC
DTSTART:20190101T000000
END:STANDARD
END:VTIMEZONE
BEGIN:VEVENT
DTSTART;TZID=UTC:20191012T100000
DTEND;TZID=UTC:20191012T120000
DTSTAMP:20260420T081312
CREATED:20190902T124455Z
LAST-MODIFIED:20190902T124455Z
UID:3160-1570874400-1570881600@cansforkids.org
SUMMARY:Can sorting 10.00-12.00
DESCRIPTION:Volunteers are always needed at our recycling centre to help us separate the steel from aluminium cans and prepare them for baling. Gianni Koromia; 1660 Pallouriotissa\, Nicosia
URL:https://cansforkids.org/event/can-sorting-10-00-12-00-9-2-2-2-2-2-2-2-2-2-2/
LOCATION:Cans For Kids Recycling Centre\, Gianni Koromia\, Pallouriotissa\, Nicosia\, 1660\, Cyprus
CATEGORIES:Events
END:VEVENT
BEGIN:VEVENT
DTSTART;TZID=UTC:20191011T200000
DTEND;TZID=UTC:20191011T230000
DTSTAMP:20260420T081312
CREATED:20190923T100004Z
LAST-MODIFIED:20190923T100004Z
UID:3174-1570824000-1570834800@cansforkids.org
SUMMARY:Quiz and Curry Night
DESCRIPTION:Our monthly quiz night usually takes place on the first Friday of the month. €5 entry fee per person\, with an optional curry buffet for €12. Teams of six\, please\, or come on your own and join a team. It’s a fun way to meet new people. Prizes are kindly donated by Vinologie.
URL:https://cansforkids.org/event/quiz-and-curry-night-6-2/
LOCATION:CVAR\, Ermou Street 285\, Nicosia\, 1017\, Cyprus
CATEGORIES:Events
END:VEVENT
BEGIN:VEVENT
DTSTART;TZID=UTC:20191005T100000
DTEND;TZID=UTC:20191005T120000
DTSTAMP:20260420T081312
CREATED:20190902T124319Z
LAST-MODIFIED:20190902T124319Z
UID:3158-1570269600-1570276800@cansforkids.org
SUMMARY:Can sorting 10.00-12.00
DESCRIPTION:Volunteers are always needed at our recycling centre to help us separate the steel from aluminium cans and prepare them for baling. Gianni Koromia; 1660 Pallouriotissa\, Nicosia
URL:https://cansforkids.org/event/can-sorting-10-00-12-00-9-2-2-2-2-2-2-2-2-2/
LOCATION:Cans For Kids Recycling Centre\, Gianni Koromia\, Pallouriotissa\, Nicosia\, 1660\, Cyprus
CATEGORIES:Events
END:VEVENT
BEGIN:VEVENT
DTSTART;TZID=UTC:20190928T100000
DTEND;TZID=UTC:20190928T120000
DTSTAMP:20260420T081312
CREATED:20190902T124201Z
LAST-MODIFIED:20190902T124201Z
UID:3156-1569664800-1569672000@cansforkids.org
SUMMARY:Can sorting 10.00-12.00
DESCRIPTION:Volunteers are always needed at our recycling centre to help us separate the steel from aluminium cans and prepare them for baling. Gianni Koromia; 1660 Pallouriotissa\, Nicosia
URL:https://cansforkids.org/event/can-sorting-10-00-12-00-9-2-2-2-2-2-2-2-2/
LOCATION:Cans For Kids Recycling Centre\, Gianni Koromia\, Pallouriotissa\, Nicosia\, 1660\, Cyprus
CATEGORIES:Events
END:VEVENT
BEGIN:VEVENT
DTSTART;TZID=UTC:20190921T100000
DTEND;TZID=UTC:20190921T120000
DTSTAMP:20260420T081312
CREATED:20190810T110446Z
LAST-MODIFIED:20190902T123857Z
UID:3150-1569060000-1569067200@cansforkids.org
SUMMARY:Can sorting 10.00-12.00
DESCRIPTION:Volunteers are always needed at our recycling centre to help us separate the steel from aluminium cans and prepare them for baling. Gianni Koromia; 1660 Pallouriotissa\, Nicosia
URL:https://cansforkids.org/event/can-sorting-10-00-12-00-9-2-2-2-2-2-2-2/
LOCATION:Cans For Kids Recycling Centre\, Gianni Koromia\, Pallouriotissa\, Nicosia\, 1660\, Cyprus
CATEGORIES:Events
END:VEVENT
BEGIN:VEVENT
DTSTART;TZID=UTC:20190916T200000
DTEND;TZID=UTC:20190916T230000
DTSTAMP:20260420T081312
CREATED:20190607T063838Z
LAST-MODIFIED:20190902T123650Z
UID:3096-1568664000-1568674800@cansforkids.org
SUMMARY:Quiz in Greek
DESCRIPTION:1ο Ομαδικό Διαγωνισμό Ερωτήσεων στα Ελληνικά! \nσυμμετάσχετε μαζί μας σε ενα μοναδικό ταξίδι γνώσεων και διασκέδασης!\nΤοποθεσία: Ταβέρνα “Φιλοθέα” τηλ: 22-91050\n\nΟίκημα Συνδέσμου Διαιτητών Κύπρου\, Φιλοπάππου 95\, Κάτω Λακατάμια\, 2328\nΚόστος Συμμετοχής: 5 ευρώ ανά άτομο (Μέγιστος αριθμός συμμετεχόντων ανά ομάδα: 6)\n*Μπορείτε να συμμετάσχετε εαν δεν έχετε οργανώσει ομάδα σε ομάδες που δεν έχουν συμπληρώσει αριθμό ατόμων ή ακόμα και ατομικα!
URL:https://cansforkids.org/event/quiz-in-greek-2/
LOCATION:Ταβέρνα “Φιλοθέα”\, Cyprus
CATEGORIES:Events
END:VEVENT
BEGIN:VEVENT
DTSTART;TZID=UTC:20190914T100000
DTEND;TZID=UTC:20190914T120000
DTSTAMP:20260420T081312
CREATED:20190902T124022Z
LAST-MODIFIED:20190902T124022Z
UID:3154-1568455200-1568462400@cansforkids.org
SUMMARY:Can sorting 10.00-12.00
DESCRIPTION:Volunteers are always needed at our recycling centre to help us separate the steel from aluminium cans and prepare them for baling. Gianni Koromia; 1660 Pallouriotissa\, Nicosia
URL:https://cansforkids.org/event/can-sorting-10-00-12-00-9-2-2-2-2-2-2/
LOCATION:Cans For Kids Recycling Centre\, Gianni Koromia\, Pallouriotissa\, Nicosia\, 1660\, Cyprus
CATEGORIES:Events
END:VEVENT
BEGIN:VEVENT
DTSTART;TZID=UTC:20190907T100000
DTEND;TZID=UTC:20190907T120000
DTSTAMP:20260420T081312
CREATED:20190810T110350Z
LAST-MODIFIED:20190810T110350Z
UID:3148-1567850400-1567857600@cansforkids.org
SUMMARY:Can sorting 10.00-12.00
DESCRIPTION:Volunteers are always needed at our recycling centre to help us separate the steel from aluminium cans and prepare them for baling. Gianni Koromia; 1660 Pallouriotissa\, Nicosia
URL:https://cansforkids.org/event/can-sorting-10-00-12-00-9-2-2-2-2-2/
LOCATION:Cans For Kids Recycling Centre\, Gianni Koromia\, Pallouriotissa\, Nicosia\, 1660\, Cyprus
CATEGORIES:Events
END:VEVENT
BEGIN:VEVENT
DTSTART;TZID=UTC:20190906T200000
DTEND;TZID=UTC:20190906T230000
DTSTAMP:20260420T081312
CREATED:20190810T105835Z
LAST-MODIFIED:20190810T105835Z
UID:3142-1567800000-1567810800@cansforkids.org
SUMMARY:Quiz and Curry Night
DESCRIPTION:Our monthly quiz night usually takes place on the first Friday of the month. €5 entry fee per person\, with an optional curry buffet for €12. Teams of six\, please\, or come on your own and join a team. It’s a fun way to meet new people. Prizes are kindly donated by Vinologie.
URL:https://cansforkids.org/event/quiz-and-curry-night-6/
LOCATION:CVAR\, Ermou Street 285\, Nicosia\, 1017\, Cyprus
CATEGORIES:Events
END:VEVENT
BEGIN:VEVENT
DTSTART;TZID=UTC:20190831T100000
DTEND;TZID=UTC:20190831T120000
DTSTAMP:20260420T081312
CREATED:20190810T110238Z
LAST-MODIFIED:20190810T110238Z
UID:3146-1567245600-1567252800@cansforkids.org
SUMMARY:Can sorting 10.00-12.00
DESCRIPTION:Volunteers are always needed at our recycling centre to help us separate the steel from aluminium cans and prepare them for baling. Gianni Koromia; 1660 Pallouriotissa\, Nicosia
URL:https://cansforkids.org/event/can-sorting-10-00-12-00-9-2-2-2-2/
LOCATION:Cans For Kids Recycling Centre\, Gianni Koromia\, Pallouriotissa\, Nicosia\, 1660\, Cyprus
CATEGORIES:Events
END:VEVENT
BEGIN:VEVENT
DTSTART;TZID=UTC:20190824T100000
DTEND;TZID=UTC:20190824T120000
DTSTAMP:20260420T081312
CREATED:20190810T110031Z
LAST-MODIFIED:20190810T110031Z
UID:3144-1566640800-1566648000@cansforkids.org
SUMMARY:Can sorting 10.00-12.00
DESCRIPTION:Volunteers are always needed at our recycling centre to help us separate the steel from aluminium cans and prepare them for baling. Gianni Koromia; 1660 Pallouriotissa\, Nicosia
URL:https://cansforkids.org/event/can-sorting-10-00-12-00-9-2-2-2/
LOCATION:Cans For Kids Recycling Centre\, Gianni Koromia\, Pallouriotissa\, Nicosia\, 1660\, Cyprus
CATEGORIES:Events
END:VEVENT
BEGIN:VEVENT
DTSTART;TZID=UTC:20190817T100000
DTEND;TZID=UTC:20190817T120000
DTSTAMP:20260420T081312
CREATED:20190718T094008Z
LAST-MODIFIED:20190718T094008Z
UID:3139-1566036000-1566043200@cansforkids.org
SUMMARY:Can sorting 10.00-12.00
DESCRIPTION:Volunteers are always needed at our recycling centre to help us separate the steel from aluminium cans and prepare them for baling. Gianni Koromia; 1660 Pallouriotissa\, Nicosia
URL:https://cansforkids.org/event/can-sorting-10-00-12-00-9-2-2/
LOCATION:Cans For Kids Recycling Centre\, Gianni Koromia\, Pallouriotissa\, Nicosia\, 1660\, Cyprus
CATEGORIES:Events
END:VEVENT
BEGIN:VEVENT
DTSTART;TZID=UTC:20190810T100000
DTEND;TZID=UTC:20190810T120000
DTSTAMP:20260420T081312
CREATED:20190718T093715Z
LAST-MODIFIED:20190718T093715Z
UID:3137-1565431200-1565438400@cansforkids.org
SUMMARY:Can sorting 10.00-12.00
DESCRIPTION:Volunteers are always needed at our recycling centre to help us separate the steel from aluminium cans and prepare them for baling. Gianni Koromia; 1660 Pallouriotissa\, Nicosia
URL:https://cansforkids.org/event/can-sorting-10-00-12-00-9-2/
LOCATION:Cans For Kids Recycling Centre\, Gianni Koromia\, Pallouriotissa\, Nicosia\, 1660\, Cyprus
CATEGORIES:Events
END:VEVENT
BEGIN:VEVENT
DTSTART;TZID=UTC:20190803T100000
DTEND;TZID=UTC:20190803T120000
DTSTAMP:20260420T081312
CREATED:20190618T154215Z
LAST-MODIFIED:20190618T154215Z
UID:3116-1564826400-1564833600@cansforkids.org
SUMMARY:Can sorting 10.00-12.00
DESCRIPTION:Volunteers are always needed at our recycling centre to help us separate the steel from aluminium cans and prepare them for baling. Gianni Koromia; 1660 Pallouriotissa\, Nicosia
URL:https://cansforkids.org/event/can-sorting-10-00-12-00-9/
LOCATION:Cans For Kids Recycling Centre\, Gianni Koromia\, Pallouriotissa\, Nicosia\, 1660\, Cyprus
CATEGORIES:Events
END:VEVENT
BEGIN:VEVENT
DTSTART;TZID=UTC:20190802T200000
DTEND;TZID=UTC:20190802T230000
DTSTAMP:20260420T081312
CREATED:20190718T093502Z
LAST-MODIFIED:20190718T093502Z
UID:3135-1564776000-1564786800@cansforkids.org
SUMMARY:Quiz and Curry Night
DESCRIPTION:Our monthly quiz night usually takes place on the first Friday of the month. €5 entry fee per person\, with an optional curry buffet for €12. Teams of six\, please\, or come on your own and join a team. It’s a fun way to meet new people. Prizes are kindly donated by Vinologie.
URL:https://cansforkids.org/event/quiz-and-curry-night-5/
LOCATION:CVAR\, Ermou Street 285\, Nicosia\, 1017\, Cyprus
CATEGORIES:Events
END:VEVENT
BEGIN:VEVENT
DTSTART;TZID=UTC:20190727T100000
DTEND;TZID=UTC:20190727T120000
DTSTAMP:20260420T081312
CREATED:20190618T154049Z
LAST-MODIFIED:20190618T154049Z
UID:3114-1564221600-1564228800@cansforkids.org
SUMMARY:Can Sorting 10.00-12.00
DESCRIPTION:Volunteers are always needed at our recycling centre to help us separate the steel from aluminium cans and prepare them for baling. Gianni Koromia; 1660 Pallouriotissa\, Nicosia
URL:https://cansforkids.org/event/can-sorting-10-00-12-00-8/
LOCATION:Cans For Kids Recycling Centre\, Gianni Koromia\, Pallouriotissa\, Nicosia\, 1660\, Cyprus
CATEGORIES:Events
END:VEVENT
BEGIN:VEVENT
DTSTART;TZID=UTC:20190720T100000
DTEND;TZID=UTC:20190720T120000
DTSTAMP:20260420T081312
CREATED:20190618T153814Z
LAST-MODIFIED:20190618T153814Z
UID:3110-1563616800-1563624000@cansforkids.org
SUMMARY:Can Sorting 10.00-12.00
DESCRIPTION:Volunteers are always needed at our recycling centre to help us separate the steel from aluminium cans and prepare them for baling. Gianni Koromia; 1660 Pallouriotissa\, Nicosia
URL:https://cansforkids.org/event/can-sorting-10-00-12-00-6/
LOCATION:Cans For Kids Recycling Centre\, Gianni Koromia\, Pallouriotissa\, Nicosia\, 1660\, Cyprus
END:VEVENT
BEGIN:VEVENT
DTSTART;TZID=UTC:20190713T100000
DTEND;TZID=UTC:20190713T120000
DTSTAMP:20260420T081312
CREATED:20190618T153559Z
LAST-MODIFIED:20190618T153649Z
UID:3107-1563012000-1563019200@cansforkids.org
SUMMARY:Can Sorting 10.00-12.00
DESCRIPTION:Volunteers are always needed at our recycling centre to help us separate the steel from aluminium cans and prepare them for baling. Gianni Koromia; 1660 Pallouriotissa\, Nicosia
URL:https://cansforkids.org/event/can-sorting/
LOCATION:Cans For Kids Recycling Centre\, Gianni Koromia\, Pallouriotissa\, Nicosia\, 1660\, Cyprus
END:VEVENT
BEGIN:VEVENT
DTSTART;TZID=UTC:20190712T200000
DTEND;TZID=UTC:20190712T230000
DTSTAMP:20260420T081312
CREATED:20190618T153311Z
LAST-MODIFIED:20190618T153311Z
UID:3105-1562961600-1562972400@cansforkids.org
SUMMARY:Quiz and Curry Night
DESCRIPTION:Our monthly quiz night usually takes place on the first Friday of the month. €5 entry fee per person\, with an optional curry buffet for €12. Teams of six\, please\, or come on your own and join a team. It’s a fun way to meet new people. Prizes are kindly donated by Vinologie.
URL:https://cansforkids.org/event/quiz-and-curry-night-4/
LOCATION:CVAR\, Ermou Street 285\, Nicosia\, 1017\, Cyprus
CATEGORIES:Events
END:VEVENT
BEGIN:VEVENT
DTSTART;TZID=UTC:20190706T100000
DTEND;TZID=UTC:20190706T120000
DTSTAMP:20260420T081312
CREATED:20190531T114152Z
LAST-MODIFIED:20190531T114152Z
UID:3094-1562407200-1562414400@cansforkids.org
SUMMARY:Can Sorting 10.00-12.00
DESCRIPTION:Volunteers are always needed at our recycling centre to help us separate the steel from aluminium cans and prepare them for baling. Gianni Koromia; 1660 Pallouriotissa\, Nicosia
URL:https://cansforkids.org/event/can-sorting-10-00-12-00-5/
END:VEVENT
BEGIN:VEVENT
DTSTART;TZID=UTC:20190629T100000
DTEND;TZID=UTC:20190629T120000
DTSTAMP:20260420T081312
CREATED:20190531T113955Z
LAST-MODIFIED:20190531T113955Z
UID:3092-1561802400-1561809600@cansforkids.org
SUMMARY:Can Sorting 10.00-12.00
DESCRIPTION:Volunteers are always needed at our recycling centre to help us separate the steel from aluminium cans and prepare them for baling. Gianni Koromia; 1660 Pallouriotissa\, Nicosia
URL:https://cansforkids.org/event/can-sorting-10-00-12-00-4/
END:VEVENT
BEGIN:VEVENT
DTSTART;TZID=UTC:20190622T100000
DTEND;TZID=UTC:20190622T120000
DTSTAMP:20260420T081312
CREATED:20190531T113827Z
LAST-MODIFIED:20190531T113827Z
UID:3090-1561197600-1561204800@cansforkids.org
SUMMARY:Can Sorting 10.00-12.00
DESCRIPTION:Volunteers are always needed at our recycling centre to help us separate the steel from aluminium cans and prepare them for baling. Gianni Koromia; 1660 Pallouriotissa\, Nicosia
URL:https://cansforkids.org/event/can-sorting-10-00-12-00-3/
END:VEVENT
BEGIN:VEVENT
DTSTART;TZID=UTC:20190618T100000
DTEND;TZID=UTC:20190618T120000
DTSTAMP:20260420T081312
CREATED:20190618T153914Z
LAST-MODIFIED:20190618T153914Z
UID:3112-1560852000-1560859200@cansforkids.org
SUMMARY:Can sorting 10.00-12.00
DESCRIPTION:Volunteers are always needed at our recycling centre to help us separate the steel from aluminium cans and prepare them for baling. Gianni Koromia; 1660 Pallouriotissa\, Nicosia
URL:https://cansforkids.org/event/can-sorting-10-00-12-00-7/
LOCATION:Cans For Kids Recycling Centre\, Gianni Koromia\, Pallouriotissa\, Nicosia\, 1660\, Cyprus
END:VEVENT
BEGIN:VEVENT
DTSTART;TZID=UTC:20190615T100000
DTEND;TZID=UTC:20190615T120000
DTSTAMP:20260420T081312
CREATED:20190531T113650Z
LAST-MODIFIED:20190531T113650Z
UID:3088-1560592800-1560600000@cansforkids.org
SUMMARY:Can Sorting 10.00-12.00
DESCRIPTION:Volunteers are always needed at our recycling centre to help us separate the steel from aluminium cans and prepare them for baling. Gianni Koromia; 1660 Pallouriotissa\, Nicosia
URL:https://cansforkids.org/event/can-sorting-10-00-12-00-2/
END:VEVENT
BEGIN:VEVENT
DTSTART;TZID=UTC:20190608T100000
DTEND;TZID=UTC:20190608T120000
DTSTAMP:20260420T081312
CREATED:20190531T113315Z
LAST-MODIFIED:20190531T113502Z
UID:3085-1559988000-1559995200@cansforkids.org
SUMMARY:Can Sorting 10.00-12.00
DESCRIPTION:Volunteers are always needed at our recycling centre to help us separate the steel from aluminium cans and prepare them for baling. Gianni Koromia; 1660 Pallouriotissa\, Nicosia
URL:https://cansforkids.org/event/can-sorting-10-00-12-00/
END:VEVENT
BEGIN:VEVENT
DTSTART;TZID=UTC:20190607T200000
DTEND;TZID=UTC:20190607T230000
DTSTAMP:20260420T081312
CREATED:20190531T112844Z
LAST-MODIFIED:20190531T112844Z
UID:3082-1559937600-1559948400@cansforkids.org
SUMMARY:Quiz and Curry Night
DESCRIPTION:Our monthly quiz night usually takes place on the first Friday of the month. €5 entry fee per person\, with an optional curry buffet for €12. Teams of six\, please\, or come on your own and join a team. It’s a fun way to meet new people. Prizes are kindly donated by Vinologie.
URL:https://cansforkids.org/event/quiz-and-curry-night-3/
LOCATION:CVAR\, Ermou Street 285\, Nicosia\, 1017\, Cyprus
END:VEVENT
BEGIN:VEVENT
DTSTART;TZID=UTC:20190601T100000
DTEND;TZID=UTC:20190601T120000
DTSTAMP:20260420T081312
CREATED:20190531T111852Z
LAST-MODIFIED:20190531T111852Z
UID:3077-1559383200-1559390400@cansforkids.org
SUMMARY:Celebrating World Environment Day
DESCRIPTION:Show you care!\nCelebrate World Environment Day with Cans For Kids. Bring as many cans as possible\, and join us in showing our love and respect for our environment by helping to sort cans for recycling. Wear old clothes\, bring gloves – we guarantee you’ll have fun! Snacks and refreshments sponsored by Vienna Bakeries and Lanitis Bros. \n  \n 
URL:https://cansforkids.org/event/celebrating-world-environment-day/
LOCATION:Cans For Kids Recycling Centre\, Gianni Koromia\, Pallouriotissa\, Nicosia\, 1660\, Cyprus
CATEGORIES:Events
END:VEVENT
BEGIN:VEVENT
DTSTART;TZID=UTC:20190601T100000
DTEND;TZID=UTC:20190601T120000
DTSTAMP:20260420T081312
CREATED:20190407T093549Z
LAST-MODIFIED:20190407T093549Z
UID:2979-1559383200-1559390400@cansforkids.org
SUMMARY:Can Sorting 10.00-12.00
DESCRIPTION:Volunteers are always needed at our recycling centre to help us separate the steel from aluminium cans and prepare them for baling. Gianni Koromia; 1660 Pallouriotissa\, Nicosia
URL:https://cansforkids.org/event/can-sorting-10-12-every-saturday-6-2-2-2-3-5-2-3/
CATEGORIES:Events
END:VEVENT
BEGIN:VEVENT
DTSTART;TZID=UTC:20190525T100000
DTEND;TZID=UTC:20190525T120000
DTSTAMP:20260420T081312
CREATED:20190407T093514Z
LAST-MODIFIED:20190407T093514Z
UID:2980-1558778400-1558785600@cansforkids.org
SUMMARY:Can Sorting 10.00-12.00
DESCRIPTION:Volunteers are always needed at our recycling centre to help us separate the steel from aluminium cans and prepare them for baling. Gianni Koromia; 1660 Pallouriotissa\, Nicosia
URL:https://cansforkids.org/event/can-sorting-10-12-every-saturday-6-2-2-2-3-5-2-2/
CATEGORIES:Events
END:VEVENT
BEGIN:VEVENT
DTSTART;TZID=UTC:20190518T100000
DTEND;TZID=UTC:20190518T120000
DTSTAMP:20260420T081312
CREATED:20190407T093224Z
LAST-MODIFIED:20190407T093224Z
UID:2977-1558173600-1558180800@cansforkids.org
SUMMARY:Can Sorting 10.00-12.00
DESCRIPTION:Volunteers are always needed at our recycling centre to help us separate the steel from aluminium cans and prepare them for baling. Gianni Koromia; 1660 Pallouriotissa\, Nicosia
URL:https://cansforkids.org/event/can-sorting-10-12-every-saturday-6-2-2-2-3-5-2/
CATEGORIES:Events
END:VEVENT
END:VCALENDAR