BEGIN:VCALENDAR
VERSION:2.0
PRODID:-//Cans For Kids - ECPv6.14.2//NONSGML v1.0//EN
CALSCALE:GREGORIAN
METHOD:PUBLISH
X-WR-CALNAME:Cans For Kids
X-ORIGINAL-URL:https://cansforkids.org
X-WR-CALDESC:Events for Cans For Kids
REFRESH-INTERVAL;VALUE=DURATION:PT1H
X-Robots-Tag:noindex
X-PUBLISHED-TTL:PT1H
BEGIN:VTIMEZONE
TZID:UTC
BEGIN:STANDARD
TZOFFSETFROM:+0000
TZOFFSETTO:+0000
TZNAME:UTC
DTSTART:20180101T000000
END:STANDARD
END:VTIMEZONE
BEGIN:VEVENT
DTSTART;TZID=UTC:20181117T140000
DTEND;TZID=UTC:20181117T170000
DTSTAMP:20260421T004459
CREATED:20181115T130813Z
LAST-MODIFIED:20181115T130813Z
UID:2041-1542463200-1542474000@cansforkids.org
SUMMARY:Rags to Bags upcycling workshop
DESCRIPTION:Ledra Palace. A friendly gathering of people who sew – and some who don’t! We make hand-crafted bags from donated fabric or old clothes to encourage people to ditch plastic bags when they go shopping.
URL:https://cansforkids.org/event/rags-to-bags-upcycling-workshop/
LOCATION:Nicosia
END:VEVENT
BEGIN:VEVENT
DTSTART;TZID=UTC:20181117T100000
DTEND;TZID=UTC:20181117T120000
DTSTAMP:20260421T004459
CREATED:20181115T130102Z
LAST-MODIFIED:20181115T130605Z
UID:2030-1542448800-1542456000@cansforkids.org
SUMMARY:Can sorting 10 – 12 every Saturday
DESCRIPTION:Volunteers are always needed at our recycling centre to help us separate the steel from aluminium cans and prepare them for baling. Gianni Koromia; 1660 Pallouriotissa\, Nicosia
URL:https://cansforkids.org/event/can-sorting-10-12-every-saturday/
LOCATION:Nicosia
CATEGORIES:Events
END:VEVENT
END:VCALENDAR