BEGIN:VCALENDAR
VERSION:2.0
PRODID:-//Cans For Kids - ECPv6.14.2//NONSGML v1.0//EN
CALSCALE:GREGORIAN
METHOD:PUBLISH
X-ORIGINAL-URL:https://cansforkids.org
X-WR-CALDESC:Events for Cans For Kids
REFRESH-INTERVAL;VALUE=DURATION:PT1H
X-Robots-Tag:noindex
X-PUBLISHED-TTL:PT1H
BEGIN:VTIMEZONE
TZID:UTC
BEGIN:STANDARD
TZOFFSETFROM:+0000
TZOFFSETTO:+0000
TZNAME:UTC
DTSTART:20220101T000000
END:STANDARD
END:VTIMEZONE
BEGIN:VEVENT
DTSTART;TZID=UTC:20220618T100000
DTEND;TZID=UTC:20220618T120000
DTSTAMP:20260421T053335
CREATED:20220412T123012Z
LAST-MODIFIED:20220412T123012Z
UID:3941-1655546400-1655553600@cansforkids.org
SUMMARY:Can sorting 10.00-12.00
DESCRIPTION:Volunteers are always needed at our recycling centre to help us separate the steel from aluminium cans and prepare them for baling. Gianni Koromia; 1660 Pallouriotissa\, Nicosia
URL:https://cansforkids.org/event/can-sorting-10-00-12-00-20/
LOCATION:Cans For Kids Recycling Centre\, Gianni Koromia\, Pallouriotissa\, Nicosia\, 1660\, Cyprus
CATEGORIES:Events
END:VEVENT
BEGIN:VEVENT
DTSTART;TZID=UTC:20220625T100000
DTEND;TZID=UTC:20220625T120000
DTSTAMP:20260421T053335
CREATED:20220412T123041Z
LAST-MODIFIED:20220412T123041Z
UID:3943-1656151200-1656158400@cansforkids.org
SUMMARY:Can sorting 10.00-12.00
DESCRIPTION:Volunteers are always needed at our recycling centre to help us separate the steel from aluminium cans and prepare them for baling. Gianni Koromia; 1660 Pallouriotissa\, Nicosia
URL:https://cansforkids.org/event/can-sorting-10-00-12-00-21/
LOCATION:Cans For Kids Recycling Centre\, Gianni Koromia\, Pallouriotissa\, Nicosia\, 1660\, Cyprus
CATEGORIES:Events
END:VEVENT
BEGIN:VEVENT
DTSTART;TZID=UTC:20220701T200000
DTEND;TZID=UTC:20220701T230000
DTSTAMP:20260421T053335
CREATED:20220527T083707Z
LAST-MODIFIED:20220527T083707Z
UID:3970-1656705600-1656716400@cansforkids.org
SUMMARY:Quiz and Curry Night
DESCRIPTION:Social distancing will be in force. €5 entry fee per person; optional curry supper available for just €8! Teams of six\, please\, or come on your own and join a team. It’s a fun way to meet new people. Prizes kindly donated by Vinologie.
URL:https://cansforkids.org/event/quiz-and-curry-night-10/
LOCATION:Pizza Mine\, 28th October 37\, Egkomi 2414\, Nicosia
CATEGORIES:Events
END:VEVENT
BEGIN:VEVENT
DTSTART;TZID=UTC:20220702T100000
DTEND;TZID=UTC:20220702T120000
DTSTAMP:20260421T053335
CREATED:20220412T123115Z
LAST-MODIFIED:20220412T123115Z
UID:3945-1656756000-1656763200@cansforkids.org
SUMMARY:Can sorting 10.00-12.00
DESCRIPTION:Volunteers are always needed at our recycling centre to help us separate the steel from aluminium cans and prepare them for baling. Gianni Koromia; 1660 Pallouriotissa\, Nicosia
URL:https://cansforkids.org/event/can-sorting-10-00-12-00-22/
LOCATION:Cans For Kids Recycling Centre\, Gianni Koromia\, Pallouriotissa\, Nicosia\, 1660\, Cyprus
CATEGORIES:Events
END:VEVENT
BEGIN:VEVENT
DTSTART;TZID=UTC:20220709T100000
DTEND;TZID=UTC:20220709T120000
DTSTAMP:20260421T053335
CREATED:20220412T123143Z
LAST-MODIFIED:20220412T123143Z
UID:3947-1657360800-1657368000@cansforkids.org
SUMMARY:Can sorting 10.00-12.00
DESCRIPTION:Volunteers are always needed at our recycling centre to help us separate the steel from aluminium cans and prepare them for baling. Gianni Koromia; 1660 Pallouriotissa\, Nicosia
URL:https://cansforkids.org/event/can-sorting-10-00-12-00-23/
LOCATION:Cans For Kids Recycling Centre\, Gianni Koromia\, Pallouriotissa\, Nicosia\, 1660\, Cyprus
CATEGORIES:Events
END:VEVENT
BEGIN:VEVENT
DTSTART;TZID=UTC:20220716T100000
DTEND;TZID=UTC:20220716T120000
DTSTAMP:20260421T053335
CREATED:20220412T123214Z
LAST-MODIFIED:20220412T123214Z
UID:3949-1657965600-1657972800@cansforkids.org
SUMMARY:Can sorting 10.00-12.00
DESCRIPTION:Volunteers are always needed at our recycling centre to help us separate the steel from aluminium cans and prepare them for baling. Gianni Koromia; 1660 Pallouriotissa\, Nicosia
URL:https://cansforkids.org/event/can-sorting-10-00-12-00-24/
LOCATION:Cans For Kids Recycling Centre\, Gianni Koromia\, Pallouriotissa\, Nicosia\, 1660\, Cyprus
CATEGORIES:Events
END:VEVENT
BEGIN:VEVENT
DTSTART;TZID=UTC:20220723T100000
DTEND;TZID=UTC:20220723T120000
DTSTAMP:20260421T053335
CREATED:20220412T123239Z
LAST-MODIFIED:20220412T123239Z
UID:3951-1658570400-1658577600@cansforkids.org
SUMMARY:Can sorting 10.00-12.00
DESCRIPTION:Volunteers are always needed at our recycling centre to help us separate the steel from aluminium cans and prepare them for baling. Gianni Koromia; 1660 Pallouriotissa\, Nicosia
URL:https://cansforkids.org/event/can-sorting-10-00-12-00-25/
LOCATION:Cans For Kids Recycling Centre\, Gianni Koromia\, Pallouriotissa\, Nicosia\, 1660\, Cyprus
CATEGORIES:Events
END:VEVENT
BEGIN:VEVENT
DTSTART;TZID=UTC:20220730T100000
DTEND;TZID=UTC:20220730T120000
DTSTAMP:20260421T053335
CREATED:20220412T123312Z
LAST-MODIFIED:20220412T123312Z
UID:3953-1659175200-1659182400@cansforkids.org
SUMMARY:Can sorting 10.00-12.00
DESCRIPTION:Volunteers are always needed at our recycling centre to help us separate the steel from aluminium cans and prepare them for baling. Gianni Koromia; 1660 Pallouriotissa\, Nicosia
URL:https://cansforkids.org/event/can-sorting-10-00-12-00-26/
LOCATION:Cans For Kids Recycling Centre\, Gianni Koromia\, Pallouriotissa\, Nicosia\, 1660\, Cyprus
CATEGORIES:Events
END:VEVENT
BEGIN:VEVENT
DTSTART;TZID=UTC:20220805T200000
DTEND;TZID=UTC:20220805T230000
DTSTAMP:20260421T053335
CREATED:20220527T083827Z
LAST-MODIFIED:20220527T083827Z
UID:3972-1659729600-1659740400@cansforkids.org
SUMMARY:Quiz and Curry Night
DESCRIPTION:Social distancing will be in force. €5 entry fee per person; optional curry supper available for just €8! Teams of six\, please\, or come on your own and join a team. It’s a fun way to meet new people. Prizes kindly donated by Vinologie.
URL:https://cansforkids.org/event/quiz-and-curry-night-11/
LOCATION:Pizza Mine\, 28th October 37\, Egkomi 2414\, Nicosia
CATEGORIES:Events
END:VEVENT
BEGIN:VEVENT
DTSTART;TZID=UTC:20220806T100000
DTEND;TZID=UTC:20220806T120000
DTSTAMP:20260421T053335
CREATED:20220527T083939Z
LAST-MODIFIED:20220527T083939Z
UID:3974-1659780000-1659787200@cansforkids.org
SUMMARY:Can sorting 10.00-12.00
DESCRIPTION:Volunteers are always needed at our recycling centre to help us separate the steel from aluminium cans and prepare them for baling. Gianni Koromia; 1660 Pallouriotissa\, Nicosia
URL:https://cansforkids.org/event/can-sorting-10-00-12-00-27/
LOCATION:Cans For Kids Recycling Centre\, Gianni Koromia\, Pallouriotissa\, Nicosia\, 1660\, Cyprus
CATEGORIES:Events
END:VEVENT
BEGIN:VEVENT
DTSTART;TZID=UTC:20220809T180000
DTEND;TZID=UTC:20220809T190000
DTSTAMP:20260421T053335
CREATED:20220807T145221Z
LAST-MODIFIED:20220807T145332Z
UID:4001-1660068000-1660071600@cansforkids.org
SUMMARY:Can sorting 18.00-19.00
DESCRIPTION:Catch-up sorting session! Volunteers are always needed at our recycling centre to help us separate the steel from aluminium cans and prepare them for baling. Gianni Koromia; 1660 Pallouriotissa\, Nicosia
URL:https://cansforkids.org/event/can-sorting-10-00-12-00-29/
LOCATION:Cans For Kids Recycling Centre\, Gianni Koromia\, Pallouriotissa\, Nicosia\, 1660\, Cyprus
CATEGORIES:Events
END:VEVENT
BEGIN:VEVENT
DTSTART;TZID=UTC:20220813T100000
DTEND;TZID=UTC:20220813T120000
DTSTAMP:20260421T053335
CREATED:20220527T084026Z
LAST-MODIFIED:20220527T084026Z
UID:3976-1660384800-1660392000@cansforkids.org
SUMMARY:Can sorting 10.00-12.00
DESCRIPTION:Volunteers are always needed at our recycling centre to help us separate the steel from aluminium cans and prepare them for baling. Gianni Koromia; 1660 Pallouriotissa\, Nicosia
URL:https://cansforkids.org/event/can-sorting-10-00-12-00-28/
LOCATION:Cans For Kids Recycling Centre\, Gianni Koromia\, Pallouriotissa\, Nicosia\, 1660\, Cyprus
CATEGORIES:Events
END:VEVENT
BEGIN:VEVENT
DTSTART;TZID=UTC:20220820T100000
DTEND;TZID=UTC:20220820T120000
DTSTAMP:20260421T053335
CREATED:20220807T145459Z
LAST-MODIFIED:20220807T145459Z
UID:4004-1660989600-1660996800@cansforkids.org
SUMMARY:Can sorting 10.00-12.00
DESCRIPTION:Volunteers are always needed at our recycling centre to help us separate the steel from aluminium cans and prepare them for baling. Gianni Koromia; 1660 Pallouriotissa\, Nicosia
URL:https://cansforkids.org/event/can-sorting-10-00-12-00-30/
LOCATION:Cans For Kids Recycling Centre\, Gianni Koromia\, Pallouriotissa\, Nicosia\, 1660\, Cyprus
CATEGORIES:Events
END:VEVENT
BEGIN:VEVENT
DTSTART;TZID=UTC:20220827T100000
DTEND;TZID=UTC:20220827T120000
DTSTAMP:20260421T053335
CREATED:20220807T145550Z
LAST-MODIFIED:20220807T145550Z
UID:4006-1661594400-1661601600@cansforkids.org
SUMMARY:Can sorting 10.00-12.00
DESCRIPTION:Volunteers are always needed at our recycling centre to help us separate the steel from aluminium cans and prepare them for baling. Gianni Koromia; 1660 Pallouriotissa\, Nicosia
URL:https://cansforkids.org/event/can-sorting-10-00-12-00-31/
LOCATION:Cans For Kids Recycling Centre\, Gianni Koromia\, Pallouriotissa\, Nicosia\, 1660\, Cyprus
CATEGORIES:Events
END:VEVENT
BEGIN:VEVENT
DTSTART;TZID=UTC:20220902T200000
DTEND;TZID=UTC:20220902T230000
DTSTAMP:20260421T053335
CREATED:20220807T145643Z
LAST-MODIFIED:20220807T145643Z
UID:4008-1662148800-1662159600@cansforkids.org
SUMMARY:Quiz and Curry Night
DESCRIPTION:Social distancing will be in force. €5 entry fee per person; optional curry supper available for just €8! Teams of six\, please\, or come on your own and join a team. It’s a fun way to meet new people. Prizes kindly donated by Vinologie.
URL:https://cansforkids.org/event/quiz-and-curry-night-12/
LOCATION:Pizza Mine\, 28th October 37\, Egkomi 2414\, Nicosia
CATEGORIES:Events
END:VEVENT
BEGIN:VEVENT
DTSTART;TZID=UTC:20220903T100000
DTEND;TZID=UTC:20220903T120000
DTSTAMP:20260421T053335
CREATED:20220807T145725Z
LAST-MODIFIED:20220807T145725Z
UID:4010-1662199200-1662206400@cansforkids.org
SUMMARY:Can sorting 10.00-12.00
DESCRIPTION:Volunteers are always needed at our recycling centre to help us separate the steel from aluminium cans and prepare them for baling. Gianni Koromia; 1660 Pallouriotissa\, Nicosia
URL:https://cansforkids.org/event/can-sorting-10-00-12-00-32/
LOCATION:Cans For Kids Recycling Centre\, Gianni Koromia\, Pallouriotissa\, Nicosia\, 1660\, Cyprus
CATEGORIES:Events
END:VEVENT
BEGIN:VEVENT
DTSTART;TZID=UTC:20220910T100000
DTEND;TZID=UTC:20220910T120000
DTSTAMP:20260421T053335
CREATED:20220807T145753Z
LAST-MODIFIED:20220807T145753Z
UID:4012-1662804000-1662811200@cansforkids.org
SUMMARY:Can sorting 10.00-12.00
DESCRIPTION:Volunteers are always needed at our recycling centre to help us separate the steel from aluminium cans and prepare them for baling. Gianni Koromia; 1660 Pallouriotissa\, Nicosia
URL:https://cansforkids.org/event/can-sorting-10-00-12-00-33/
LOCATION:Cans For Kids Recycling Centre\, Gianni Koromia\, Pallouriotissa\, Nicosia\, 1660\, Cyprus
CATEGORIES:Events
END:VEVENT
BEGIN:VEVENT
DTSTART;TZID=UTC:20220917T100000
DTEND;TZID=UTC:20220917T120000
DTSTAMP:20260421T053335
CREATED:20220807T145845Z
LAST-MODIFIED:20220807T145845Z
UID:4014-1663408800-1663416000@cansforkids.org
SUMMARY:Can sorting 10.00-12.00
DESCRIPTION:Volunteers are always needed at our recycling centre to help us separate the steel from aluminium cans and prepare them for baling. Gianni Koromia; 1660 Pallouriotissa\, Nicosia
URL:https://cansforkids.org/event/can-sorting-10-00-12-00-34/
LOCATION:Cans For Kids Recycling Centre\, Gianni Koromia\, Pallouriotissa\, Nicosia\, 1660\, Cyprus
CATEGORIES:Events
END:VEVENT
BEGIN:VEVENT
DTSTART;TZID=UTC:20220924T100000
DTEND;TZID=UTC:20220924T120000
DTSTAMP:20260421T053335
CREATED:20220807T145937Z
LAST-MODIFIED:20220807T145937Z
UID:4016-1664013600-1664020800@cansforkids.org
SUMMARY:Can sorting 10.00-12.00
DESCRIPTION:Volunteers are always needed at our recycling centre to help us separate the steel from aluminium cans and prepare them for baling. Gianni Koromia; 1660 Pallouriotissa\, Nicosia
URL:https://cansforkids.org/event/can-sorting-10-00-12-00-35/
LOCATION:Cans For Kids Recycling Centre\, Gianni Koromia\, Pallouriotissa\, Nicosia\, 1660\, Cyprus
CATEGORIES:Events
END:VEVENT
BEGIN:VEVENT
DTSTART;TZID=UTC:20221001T100000
DTEND;TZID=UTC:20221001T120000
DTSTAMP:20260421T053335
CREATED:20220807T150014Z
LAST-MODIFIED:20220807T150014Z
UID:4018-1664618400-1664625600@cansforkids.org
SUMMARY:Can sorting 10.00-12.00
DESCRIPTION:Volunteers are always needed at our recycling centre to help us separate the steel from aluminium cans and prepare them for baling. Gianni Koromia; 1660 Pallouriotissa\, Nicosia
URL:https://cansforkids.org/event/can-sorting-10-00-12-00-36/
LOCATION:Cans For Kids Recycling Centre\, Gianni Koromia\, Pallouriotissa\, Nicosia\, 1660\, Cyprus
CATEGORIES:Events
END:VEVENT
BEGIN:VEVENT
DTSTART;TZID=UTC:20221008T100000
DTEND;TZID=UTC:20221008T120000
DTSTAMP:20260421T053335
CREATED:20220807T150125Z
LAST-MODIFIED:20220807T150125Z
UID:4020-1665223200-1665230400@cansforkids.org
SUMMARY:Can sorting 10.00-12.00
DESCRIPTION:Volunteers are always needed at our recycling centre to help us separate the steel from aluminium cans and prepare them for baling. Gianni Koromia; 1660 Pallouriotissa\, Nicosia
URL:https://cansforkids.org/event/can-sorting-10-00-12-00-37/
LOCATION:Cans For Kids Recycling Centre\, Gianni Koromia\, Pallouriotissa\, Nicosia\, 1660\, Cyprus
CATEGORIES:Events
END:VEVENT
BEGIN:VEVENT
DTSTART;TZID=UTC:20221014T200000
DTEND;TZID=UTC:20221014T230000
DTSTAMP:20260421T053335
CREATED:20220807T150333Z
LAST-MODIFIED:20220807T150333Z
UID:4022-1665777600-1665788400@cansforkids.org
SUMMARY:Quiz and Curry Night
DESCRIPTION:Please note new date! €5 entry fee per person; optional curry supper available for just €8! Teams of six\, please\, or come on your own and join a team. It’s a fun way to meet new people. Prizes kindly donated by Vinologie.
URL:https://cansforkids.org/event/quiz-and-curry-night-13/
LOCATION:Pizza Mine\, 28th October 37\, Egkomi 2414\, Nicosia
CATEGORIES:Events
END:VEVENT
BEGIN:VEVENT
DTSTART;TZID=UTC:20221015T100000
DTEND;TZID=UTC:20221015T120000
DTSTAMP:20260421T053335
CREATED:20220807T150412Z
LAST-MODIFIED:20220807T150412Z
UID:4024-1665828000-1665835200@cansforkids.org
SUMMARY:Can sorting 10.00-12.00
DESCRIPTION:Volunteers are always needed at our recycling centre to help us separate the steel from aluminium cans and prepare them for baling. Gianni Koromia; 1660 Pallouriotissa\, Nicosia
URL:https://cansforkids.org/event/can-sorting-10-00-12-00-38/
LOCATION:Cans For Kids Recycling Centre\, Gianni Koromia\, Pallouriotissa\, Nicosia\, 1660\, Cyprus
CATEGORIES:Events
END:VEVENT
BEGIN:VEVENT
DTSTART;TZID=UTC:20221022T100000
DTEND;TZID=UTC:20221022T120000
DTSTAMP:20260421T053335
CREATED:20220807T150444Z
LAST-MODIFIED:20220807T150444Z
UID:4026-1666432800-1666440000@cansforkids.org
SUMMARY:Can sorting 10.00-12.00
DESCRIPTION:Volunteers are always needed at our recycling centre to help us separate the steel from aluminium cans and prepare them for baling. Gianni Koromia; 1660 Pallouriotissa\, Nicosia
URL:https://cansforkids.org/event/can-sorting-10-00-12-00-39/
LOCATION:Cans For Kids Recycling Centre\, Gianni Koromia\, Pallouriotissa\, Nicosia\, 1660\, Cyprus
CATEGORIES:Events
END:VEVENT
BEGIN:VEVENT
DTSTART;TZID=UTC:20221029T100000
DTEND;TZID=UTC:20221029T120000
DTSTAMP:20260421T053335
CREATED:20220807T150526Z
LAST-MODIFIED:20220807T150526Z
UID:4028-1667037600-1667044800@cansforkids.org
SUMMARY:Can sorting 10.00-12.00
DESCRIPTION:Volunteers are always needed at our recycling centre to help us separate the steel from aluminium cans and prepare them for baling. Gianni Koromia; 1660 Pallouriotissa\, Nicosia
URL:https://cansforkids.org/event/can-sorting-10-00-12-00-40/
LOCATION:Cans For Kids Recycling Centre\, Gianni Koromia\, Pallouriotissa\, Nicosia\, 1660\, Cyprus
CATEGORIES:Events
END:VEVENT
BEGIN:VEVENT
DTSTART;TZID=UTC:20221104T200000
DTEND;TZID=UTC:20221104T230000
DTSTAMP:20260421T053335
CREATED:20221030T161651Z
LAST-MODIFIED:20221030T161651Z
UID:4103-1667592000-1667602800@cansforkids.org
SUMMARY:Quiz and Curry Night
DESCRIPTION:Please note new date! €5 entry fee per person; optional curry supper available for just €8! Teams of six\, please\, or come on your own and join a team. It’s a fun way to meet new people. Prizes kindly donated by Vinologie.
URL:https://cansforkids.org/event/quiz-and-curry-night-14/
LOCATION:Pizza Mine\, 28th October 37\, Egkomi 2414\, Nicosia
CATEGORIES:Events
END:VEVENT
BEGIN:VEVENT
DTSTART;TZID=UTC:20221105T100000
DTEND;TZID=UTC:20221105T120000
DTSTAMP:20260421T053335
CREATED:20221030T161514Z
LAST-MODIFIED:20221030T161514Z
UID:4101-1667642400-1667649600@cansforkids.org
SUMMARY:Can sorting 10.00-12.00
DESCRIPTION:Volunteers are always needed at our recycling centre to help us separate the steel from aluminium cans and prepare them for baling. Gianni Koromia; 1660 Pallouriotissa\, Nicosia
URL:https://cansforkids.org/event/can-sorting-10-00-12-00-41/
LOCATION:Cans For Kids Recycling Centre\, Gianni Koromia\, Pallouriotissa\, Nicosia\, 1660\, Cyprus
CATEGORIES:Events
END:VEVENT
BEGIN:VEVENT
DTSTART;TZID=UTC:20221111T180000
DTEND;TZID=UTC:20221111T190000
DTSTAMP:20260421T053335
CREATED:20221030T163123Z
LAST-MODIFIED:20221030T163123Z
UID:4117-1668189600-1668193200@cansforkids.org
SUMMARY:Annual General Meeting
DESCRIPTION:The 2022 AGM will be held on Zoom at 6pm. Members eligible to attend the AGM are those who have fulfilled all their\noutstanding financial obligations to Cans For Kids. Any member wishing to stand for election should inform the secretary in writing or by e-mail at least 10 days before the set date for the AGM. Members have been sent email notifications and will be sent the invitation to the Zoom meeting a couple of days before the event.
URL:https://cansforkids.org/event/annual-general-meeting-3/
LOCATION:Nicosia
END:VEVENT
BEGIN:VEVENT
DTSTART;TZID=UTC:20221112T100000
DTEND;TZID=UTC:20221112T120000
DTSTAMP:20260421T053335
CREATED:20221030T161809Z
LAST-MODIFIED:20221030T161809Z
UID:4105-1668247200-1668254400@cansforkids.org
SUMMARY:Can sorting 10.00-12.00
DESCRIPTION:Volunteers are always needed at our recycling centre to help us separate the steel from aluminium cans and prepare them for baling. Gianni Koromia; 1660 Pallouriotissa\, Nicosia
URL:https://cansforkids.org/event/can-sorting-10-00-12-00-42/
LOCATION:Cans For Kids Recycling Centre\, Gianni Koromia\, Pallouriotissa\, Nicosia\, 1660\, Cyprus
CATEGORIES:Events
END:VEVENT
BEGIN:VEVENT
DTSTART;TZID=UTC:20221119T100000
DTEND;TZID=UTC:20221119T120000
DTSTAMP:20260421T053335
CREATED:20221030T161849Z
LAST-MODIFIED:20221030T161849Z
UID:4107-1668852000-1668859200@cansforkids.org
SUMMARY:Can sorting 10.00-12.00
DESCRIPTION:Volunteers are always needed at our recycling centre to help us separate the steel from aluminium cans and prepare them for baling. Gianni Koromia; 1660 Pallouriotissa\, Nicosia
URL:https://cansforkids.org/event/can-sorting-10-00-12-00-43/
LOCATION:Cans For Kids Recycling Centre\, Gianni Koromia\, Pallouriotissa\, Nicosia\, 1660\, Cyprus
CATEGORIES:Events
END:VEVENT
END:VCALENDAR