BEGIN:VCALENDAR
VERSION:2.0
PRODID:-//Cans For Kids - ECPv6.14.2//NONSGML v1.0//EN
CALSCALE:GREGORIAN
METHOD:PUBLISH
X-ORIGINAL-URL:https://cansforkids.org
X-WR-CALDESC:Events for Cans For Kids
REFRESH-INTERVAL;VALUE=DURATION:PT1H
X-Robots-Tag:noindex
X-PUBLISHED-TTL:PT1H
BEGIN:VTIMEZONE
TZID:UTC
BEGIN:STANDARD
TZOFFSETFROM:+0000
TZOFFSETTO:+0000
TZNAME:UTC
DTSTART:20220101T000000
END:STANDARD
END:VTIMEZONE
BEGIN:VEVENT
DTSTART;TZID=UTC:20221105T100000
DTEND;TZID=UTC:20221105T120000
DTSTAMP:20260421T053431
CREATED:20221030T161514Z
LAST-MODIFIED:20221030T161514Z
UID:4101-1667642400-1667649600@cansforkids.org
SUMMARY:Can sorting 10.00-12.00
DESCRIPTION:Volunteers are always needed at our recycling centre to help us separate the steel from aluminium cans and prepare them for baling. Gianni Koromia; 1660 Pallouriotissa\, Nicosia
URL:https://cansforkids.org/event/can-sorting-10-00-12-00-41/
LOCATION:Cans For Kids Recycling Centre\, Gianni Koromia\, Pallouriotissa\, Nicosia\, 1660\, Cyprus
CATEGORIES:Events
END:VEVENT
BEGIN:VEVENT
DTSTART;TZID=UTC:20221111T180000
DTEND;TZID=UTC:20221111T190000
DTSTAMP:20260421T053431
CREATED:20221030T163123Z
LAST-MODIFIED:20221030T163123Z
UID:4117-1668189600-1668193200@cansforkids.org
SUMMARY:Annual General Meeting
DESCRIPTION:The 2022 AGM will be held on Zoom at 6pm. Members eligible to attend the AGM are those who have fulfilled all their\noutstanding financial obligations to Cans For Kids. Any member wishing to stand for election should inform the secretary in writing or by e-mail at least 10 days before the set date for the AGM. Members have been sent email notifications and will be sent the invitation to the Zoom meeting a couple of days before the event.
URL:https://cansforkids.org/event/annual-general-meeting-3/
LOCATION:Nicosia
END:VEVENT
BEGIN:VEVENT
DTSTART;TZID=UTC:20221112T100000
DTEND;TZID=UTC:20221112T120000
DTSTAMP:20260421T053431
CREATED:20221030T161809Z
LAST-MODIFIED:20221030T161809Z
UID:4105-1668247200-1668254400@cansforkids.org
SUMMARY:Can sorting 10.00-12.00
DESCRIPTION:Volunteers are always needed at our recycling centre to help us separate the steel from aluminium cans and prepare them for baling. Gianni Koromia; 1660 Pallouriotissa\, Nicosia
URL:https://cansforkids.org/event/can-sorting-10-00-12-00-42/
LOCATION:Cans For Kids Recycling Centre\, Gianni Koromia\, Pallouriotissa\, Nicosia\, 1660\, Cyprus
CATEGORIES:Events
END:VEVENT
BEGIN:VEVENT
DTSTART;TZID=UTC:20221119T100000
DTEND;TZID=UTC:20221119T120000
DTSTAMP:20260421T053431
CREATED:20221030T161849Z
LAST-MODIFIED:20221030T161849Z
UID:4107-1668852000-1668859200@cansforkids.org
SUMMARY:Can sorting 10.00-12.00
DESCRIPTION:Volunteers are always needed at our recycling centre to help us separate the steel from aluminium cans and prepare them for baling. Gianni Koromia; 1660 Pallouriotissa\, Nicosia
URL:https://cansforkids.org/event/can-sorting-10-00-12-00-43/
LOCATION:Cans For Kids Recycling Centre\, Gianni Koromia\, Pallouriotissa\, Nicosia\, 1660\, Cyprus
CATEGORIES:Events
END:VEVENT
BEGIN:VEVENT
DTSTART;TZID=UTC:20221126T100000
DTEND;TZID=UTC:20221126T120000
DTSTAMP:20260421T053431
CREATED:20221030T161934Z
LAST-MODIFIED:20221030T161934Z
UID:4109-1669456800-1669464000@cansforkids.org
SUMMARY:Can sorting 10.00-12.00
DESCRIPTION:Volunteers are always needed at our recycling centre to help us separate the steel from aluminium cans and prepare them for baling. Gianni Koromia; 1660 Pallouriotissa\, Nicosia
URL:https://cansforkids.org/event/can-sorting-10-00-12-00-44/
LOCATION:Cans For Kids Recycling Centre\, Gianni Koromia\, Pallouriotissa\, Nicosia\, 1660\, Cyprus
CATEGORIES:Events
END:VEVENT
BEGIN:VEVENT
DTSTART;TZID=UTC:20221130T100000
DTEND;TZID=UTC:20221130T120000
DTSTAMP:20260421T053431
CREATED:20230108T061518Z
LAST-MODIFIED:20230201T155303Z
UID:4169-1669802400-1669809600@cansforkids.org
SUMMARY:WECAN clean up day
DESCRIPTION:As part of our WE CAN project\, we are organising a clean up day\, collecting litter from the area around the University of Nicosia. Free pizza at the end of the event! \nThe WE CAN project benefits from a grant under the Active Citizens Fund Cyprus programme\, funded by Iceland\, Liechtenstein and Norway\, through the EEA and Norway Grants 2014-2021.
URL:https://cansforkids.org/event/wecan-clean-up-day/
LOCATION:Nicosia
END:VEVENT
BEGIN:VEVENT
DTSTART;TZID=UTC:20221203T100000
DTEND;TZID=UTC:20221203T120000
DTSTAMP:20260421T053431
CREATED:20221030T162039Z
LAST-MODIFIED:20221030T162039Z
UID:4111-1670061600-1670068800@cansforkids.org
SUMMARY:Can sorting 10.00-12.00
DESCRIPTION:Volunteers are always needed at our recycling centre to help us separate the steel from aluminium cans and prepare them for baling. Gianni Koromia; 1660 Pallouriotissa\, Nicosia
URL:https://cansforkids.org/event/can-sorting-10-00-12-00-45/
LOCATION:Cans For Kids Recycling Centre\, Gianni Koromia\, Pallouriotissa\, Nicosia\, 1660\, Cyprus
CATEGORIES:Events
END:VEVENT
BEGIN:VEVENT
DTSTART;TZID=UTC:20221210T100000
DTEND;TZID=UTC:20221210T100000
DTSTAMP:20260421T053431
CREATED:20221030T162136Z
LAST-MODIFIED:20221030T162136Z
UID:4113-1670666400-1670666400@cansforkids.org
SUMMARY:Can sorting 10.00-12.00
DESCRIPTION:Volunteers are always needed at our recycling centre to help us separate the steel from aluminium cans and prepare them for baling. Gianni Koromia; 1660 Pallouriotissa\, Nicosia
URL:https://cansforkids.org/event/can-sorting-10-00-12-00-46/
LOCATION:Cans For Kids Recycling Centre\, Gianni Koromia\, Pallouriotissa\, Nicosia\, 1660\, Cyprus
CATEGORIES:Events
END:VEVENT
BEGIN:VEVENT
DTSTART;TZID=UTC:20221217T100000
DTEND;TZID=UTC:20221217T100000
DTSTAMP:20260421T053431
CREATED:20221030T162228Z
LAST-MODIFIED:20221030T162228Z
UID:4115-1671271200-1671271200@cansforkids.org
SUMMARY:Can sorting 10.00-12.00
DESCRIPTION:Volunteers are always needed at our recycling centre to help us separate the steel from aluminium cans and prepare them for baling. Gianni Koromia; 1660 Pallouriotissa\, Nicosia
URL:https://cansforkids.org/event/can-sorting-10-00-12-00-47/
LOCATION:Cans For Kids Recycling Centre\, Gianni Koromia\, Pallouriotissa\, Nicosia\, 1660\, Cyprus
CATEGORIES:Events
END:VEVENT
BEGIN:VEVENT
DTSTART;TZID=UTC:20221224T100000
DTEND;TZID=UTC:20221224T110000
DTSTAMP:20260421T053431
CREATED:20221030T164011Z
LAST-MODIFIED:20221030T164011Z
UID:4130-1671876000-1671879600@cansforkids.org
SUMMARY:Christmas break
DESCRIPTION:Enjoy the festivities! Merry Christmas!
URL:https://cansforkids.org/event/christmas-break/
LOCATION:Nicosia
END:VEVENT
BEGIN:VEVENT
DTSTART;TZID=UTC:20221231T100000
DTEND;TZID=UTC:20221231T110000
DTSTAMP:20260421T053431
CREATED:20221030T164157Z
LAST-MODIFIED:20221030T164157Z
UID:4132-1672480800-1672484400@cansforkids.org
SUMMARY:New Year day off
DESCRIPTION:Happy New Year! Thank you all for your help in 2022; bring it on in 2023!
URL:https://cansforkids.org/event/new-year-day-off/
LOCATION:Nicosia
END:VEVENT
BEGIN:VEVENT
DTSTART;TZID=UTC:20230107T100000
DTEND;TZID=UTC:20230107T100000
DTSTAMP:20260421T053431
CREATED:20221030T163350Z
LAST-MODIFIED:20221030T163350Z
UID:4120-1673085600-1673085600@cansforkids.org
SUMMARY:Can sorting 10.00-12.00
DESCRIPTION:Volunteers are always needed at our recycling centre to help us separate the steel from aluminium cans and prepare them for baling. Gianni Koromia; 1660 Pallouriotissa\, Nicosia. After the Christmas/New Year break\, we will need all the hands we can get!
URL:https://cansforkids.org/event/can-sorting-10-00-12-00-48/
LOCATION:Cans For Kids Recycling Centre\, Gianni Koromia\, Pallouriotissa\, Nicosia\, 1660\, Cyprus
CATEGORIES:Events
END:VEVENT
BEGIN:VEVENT
DTSTART;TZID=UTC:20230114T100000
DTEND;TZID=UTC:20230114T100000
DTSTAMP:20260421T053431
CREATED:20221030T163440Z
LAST-MODIFIED:20221030T163440Z
UID:4122-1673690400-1673690400@cansforkids.org
SUMMARY:Can sorting 10.00-12.00
DESCRIPTION:Volunteers are always needed at our recycling centre to help us separate the steel from aluminium cans and prepare them for baling. Gianni Koromia; 1660 Pallouriotissa\, Nicosia
URL:https://cansforkids.org/event/can-sorting-10-00-12-00-49/
LOCATION:Cans For Kids Recycling Centre\, Gianni Koromia\, Pallouriotissa\, Nicosia\, 1660\, Cyprus
CATEGORIES:Events
END:VEVENT
BEGIN:VEVENT
DTSTART;TZID=UTC:20230121T100000
DTEND;TZID=UTC:20230121T100000
DTSTAMP:20260421T053431
CREATED:20221030T163540Z
LAST-MODIFIED:20221030T163540Z
UID:4124-1674295200-1674295200@cansforkids.org
SUMMARY:Can sorting 10.00-12.00
DESCRIPTION:Volunteers are always needed at our recycling centre to help us separate the steel from aluminium cans and prepare them for baling. Gianni Koromia; 1660 Pallouriotissa\, Nicosia
URL:https://cansforkids.org/event/can-sorting-10-00-12-00-50/
LOCATION:Cans For Kids Recycling Centre\, Gianni Koromia\, Pallouriotissa\, Nicosia\, 1660\, Cyprus
CATEGORIES:Events
END:VEVENT
BEGIN:VEVENT
DTSTART;TZID=UTC:20230128T100000
DTEND;TZID=UTC:20230128T100000
DTSTAMP:20260421T053431
CREATED:20221030T163638Z
LAST-MODIFIED:20221030T163638Z
UID:4127-1674900000-1674900000@cansforkids.org
SUMMARY:Can sorting 10.00-12.00
DESCRIPTION:Volunteers are always needed at our recycling centre to help us separate the steel from aluminium cans and prepare them for baling. Gianni Koromia; 1660 Pallouriotissa\, Nicosia
URL:https://cansforkids.org/event/can-sorting-10-00-12-00-51/
LOCATION:Cans For Kids Recycling Centre\, Gianni Koromia\, Pallouriotissa\, Nicosia\, 1660\, Cyprus
CATEGORIES:Events
END:VEVENT
BEGIN:VEVENT
DTSTART;TZID=UTC:20230203T200000
DTEND;TZID=UTC:20230203T230000
DTSTAMP:20260421T053431
CREATED:20230305T173618Z
LAST-MODIFIED:20230305T173618Z
UID:4251-1675454400-1675465200@cansforkids.org
SUMMARY:Quiz and Curry Night
DESCRIPTION:Please note new date! €5 entry fee per person; optional curry supper available for just €8! Teams of six\, please\, or come on your own and join a team. It’s a fun way to meet new people. Prizes kindly donated by Vinologie.
URL:https://cansforkids.org/event/quiz-and-curry-night-15/
LOCATION:Pizza Mine\, 28th October 37\, Egkomi 2414\, Nicosia
CATEGORIES:Events
END:VEVENT
BEGIN:VEVENT
DTSTART;TZID=UTC:20230204T100000
DTEND;TZID=UTC:20230204T100000
DTSTAMP:20260421T053431
CREATED:20221030T163718Z
LAST-MODIFIED:20230108T022642Z
UID:4126-1675504800-1675504800@cansforkids.org
SUMMARY:Can sorting 10.00-12.00
DESCRIPTION:Volunteers are always needed at our recycling centre to help us separate the steel from aluminium cans and prepare them for baling. Gianni Koromia; 1660 Pallouriotissa\, Nicosia
URL:https://cansforkids.org/event/can-sorting-10-00-12-00-52/
LOCATION:Cans For Kids Recycling Centre\, Gianni Koromia\, Pallouriotissa\, Nicosia\, 1660\, Cyprus
CATEGORIES:Events
END:VEVENT
BEGIN:VEVENT
DTSTART;TZID=UTC:20230211T100000
DTEND;TZID=UTC:20230211T100000
DTSTAMP:20260421T053431
CREATED:20230224T102422Z
LAST-MODIFIED:20230224T102422Z
UID:4220-1676109600-1676109600@cansforkids.org
SUMMARY:Can sorting 10.00-12.00
DESCRIPTION:Volunteers are always needed at our recycling centre to help us separate the steel from aluminium cans and prepare them for baling. Gianni Koromia; 1660 Pallouriotissa\, Nicosia
URL:https://cansforkids.org/event/can-sorting-10-00-12-00-53/
LOCATION:Cans For Kids Recycling Centre\, Gianni Koromia\, Pallouriotissa\, Nicosia\, 1660\, Cyprus
CATEGORIES:Events
END:VEVENT
BEGIN:VEVENT
DTSTART;TZID=UTC:20230218T100000
DTEND;TZID=UTC:20230218T100000
DTSTAMP:20260421T053431
CREATED:20230224T102600Z
LAST-MODIFIED:20230224T102800Z
UID:4222-1676714400-1676714400@cansforkids.org
SUMMARY:Can sorting 10.00-12.00
DESCRIPTION:Volunteers are always needed at our recycling centre to help us separate the steel from aluminium cans and prepare them for baling. Gianni Koromia; 1660 Pallouriotissa\, Nicosia
URL:https://cansforkids.org/event/can-sorting-10-00-12-00-54/
LOCATION:Cans For Kids Recycling Centre\, Gianni Koromia\, Pallouriotissa\, Nicosia\, 1660\, Cyprus
CATEGORIES:Events
END:VEVENT
BEGIN:VEVENT
DTSTART;TZID=UTC:20230225T100000
DTEND;TZID=UTC:20230225T100000
DTSTAMP:20260421T053431
CREATED:20230224T103012Z
LAST-MODIFIED:20230224T103012Z
UID:4223-1677319200-1677319200@cansforkids.org
SUMMARY:Can sorting 10.00-12.00
DESCRIPTION:Volunteers are always needed at our recycling centre to help us separate the steel from aluminium cans and prepare them for baling. Gianni Koromia; 1660 Pallouriotissa\, Nicosia
URL:https://cansforkids.org/event/can-sorting-10-00-12-00-55/
LOCATION:Cans For Kids Recycling Centre\, Gianni Koromia\, Pallouriotissa\, Nicosia\, 1660\, Cyprus
CATEGORIES:Events
END:VEVENT
BEGIN:VEVENT
DTSTART;TZID=UTC:20230303T200000
DTEND;TZID=UTC:20230303T230000
DTSTAMP:20260421T053431
CREATED:20230305T173709Z
LAST-MODIFIED:20230305T173709Z
UID:4253-1677873600-1677884400@cansforkids.org
SUMMARY:Quiz and Curry Night
DESCRIPTION:Please note new date! €5 entry fee per person; optional curry supper available for just €8! Teams of six\, please\, or come on your own and join a team. It’s a fun way to meet new people. Prizes kindly donated by Vinologie.
URL:https://cansforkids.org/event/quiz-and-curry-night-16/
LOCATION:Pizza Mine\, 28th October 37\, Egkomi 2414\, Nicosia
CATEGORIES:Events
END:VEVENT
BEGIN:VEVENT
DTSTART;TZID=UTC:20230304T100000
DTEND;TZID=UTC:20230304T120000
DTSTAMP:20260421T053431
CREATED:20230224T103250Z
LAST-MODIFIED:20230224T103250Z
UID:4227-1677924000-1677931200@cansforkids.org
SUMMARY:WECAN clean up day
DESCRIPTION:As part of our WE CAN project\, we are organising a Spring campaign clean up day\, collecting litter from the area around the Cans For Kids Recycling Centre and then sorting and baling the cans. Free pizza at the end of the event! \nThe WE CAN project benefits from a grant under the Active Citizens Fund Cyprus programme\, funded by Iceland\, Liechtenstein and Norway\, through the EEA and Norway Grants 2014-2021.
URL:https://cansforkids.org/event/wecan-clean-up-day-2/
LOCATION:Nicosia
END:VEVENT
BEGIN:VEVENT
DTSTART;TZID=UTC:20230311T100000
DTEND;TZID=UTC:20230311T100000
DTSTAMP:20260421T053431
CREATED:20230224T103414Z
LAST-MODIFIED:20230224T103414Z
UID:4229-1678528800-1678528800@cansforkids.org
SUMMARY:Can sorting 10.00-12.00
DESCRIPTION:Volunteers are always needed at our recycling centre to help us separate the steel from aluminium cans and prepare them for baling. Gianni Koromia; 1660 Pallouriotissa\, Nicosia
URL:https://cansforkids.org/event/can-sorting-10-00-12-00-56/
LOCATION:Cans For Kids Recycling Centre\, Gianni Koromia\, Pallouriotissa\, Nicosia\, 1660\, Cyprus
CATEGORIES:Events
END:VEVENT
BEGIN:VEVENT
DTSTART;TZID=UTC:20230318T100000
DTEND;TZID=UTC:20230318T100000
DTSTAMP:20260421T053431
CREATED:20230224T103720Z
LAST-MODIFIED:20230224T103720Z
UID:4231-1679133600-1679133600@cansforkids.org
SUMMARY:Can sorting 10.00-12.00
DESCRIPTION:Volunteers are always needed at our recycling centre to help us separate the steel from aluminium cans and prepare them for baling. Gianni Koromia; 1660 Pallouriotissa\, Nicosia
URL:https://cansforkids.org/event/can-sorting-10-00-12-00-57/
LOCATION:Cans For Kids Recycling Centre\, Gianni Koromia\, Pallouriotissa\, Nicosia\, 1660\, Cyprus
CATEGORIES:Events
END:VEVENT
BEGIN:VEVENT
DTSTART;TZID=UTC:20230325T100000
DTEND;TZID=UTC:20230325T100000
DTSTAMP:20260421T053431
CREATED:20230224T104327Z
LAST-MODIFIED:20230224T104327Z
UID:4233-1679738400-1679738400@cansforkids.org
SUMMARY:Can sorting 10.00-12.00
DESCRIPTION:Volunteers are always needed at our recycling centre to help us separate the steel from aluminium cans and prepare them for baling. Gianni Koromia; 1660 Pallouriotissa\, Nicosia
URL:https://cansforkids.org/event/can-sorting-10-00-12-00-58/
LOCATION:Cans For Kids Recycling Centre\, Gianni Koromia\, Pallouriotissa\, Nicosia\, 1660\, Cyprus
CATEGORIES:Events
END:VEVENT
BEGIN:VEVENT
DTSTART;TZID=UTC:20230401T100000
DTEND;TZID=UTC:20230401T100000
DTSTAMP:20260421T053431
CREATED:20230305T173340Z
LAST-MODIFIED:20230305T173340Z
UID:4247-1680343200-1680343200@cansforkids.org
SUMMARY:Can sorting 10.00-12.00
DESCRIPTION:Volunteers are always needed at our recycling centre to help us separate the steel from aluminium cans and prepare them for baling. Gianni Koromia; 1660 Pallouriotissa\, Nicosia
URL:https://cansforkids.org/event/can-sorting-10-00-12-00-59/
LOCATION:Cans For Kids Recycling Centre\, Gianni Koromia\, Pallouriotissa\, Nicosia\, 1660\, Cyprus
CATEGORIES:Events
END:VEVENT
BEGIN:VEVENT
DTSTART;TZID=UTC:20230407T200000
DTEND;TZID=UTC:20230407T230000
DTSTAMP:20260421T053431
CREATED:20230305T173751Z
LAST-MODIFIED:20230305T173751Z
UID:4255-1680897600-1680908400@cansforkids.org
SUMMARY:Quiz and Curry Night
DESCRIPTION:Please note new date! €5 entry fee per person; optional curry supper available for just €8! Teams of six\, please\, or come on your own and join a team. It’s a fun way to meet new people. Prizes kindly donated by Vinologie.
URL:https://cansforkids.org/event/quiz-and-curry-night-17/
LOCATION:Pizza Mine\, 28th October 37\, Egkomi 2414\, Nicosia
CATEGORIES:Events
END:VEVENT
BEGIN:VEVENT
DTSTART;TZID=UTC:20230408T100000
DTEND;TZID=UTC:20230408T100000
DTSTAMP:20260421T053431
CREATED:20230305T173422Z
LAST-MODIFIED:20230305T173422Z
UID:4249-1680948000-1680948000@cansforkids.org
SUMMARY:Can sorting 10.00-12.00
DESCRIPTION:Volunteers are always needed at our recycling centre to help us separate the steel from aluminium cans and prepare them for baling. Gianni Koromia; 1660 Pallouriotissa\, Nicosia
URL:https://cansforkids.org/event/can-sorting-10-00-12-00-60/
LOCATION:Cans For Kids Recycling Centre\, Gianni Koromia\, Pallouriotissa\, Nicosia\, 1660\, Cyprus
CATEGORIES:Events
END:VEVENT
BEGIN:VEVENT
DTSTART;TZID=UTC:20230415T100000
DTEND;TZID=UTC:20230415T100000
DTSTAMP:20260421T053431
CREATED:20230305T173923Z
LAST-MODIFIED:20230305T173923Z
UID:4259-1681552800-1681552800@cansforkids.org
SUMMARY:Can sorting 10.00-12.00
DESCRIPTION:Volunteers are always needed at our recycling centre to help us separate the steel from aluminium cans and prepare them for baling. Gianni Koromia; 1660 Pallouriotissa\, Nicosia
URL:https://cansforkids.org/event/can-sorting-10-00-12-00-61/
LOCATION:Cans For Kids Recycling Centre\, Gianni Koromia\, Pallouriotissa\, Nicosia\, 1660\, Cyprus
CATEGORIES:Events
END:VEVENT
BEGIN:VEVENT
DTSTART;TZID=UTC:20230422T100000
DTEND;TZID=UTC:20230422T100000
DTSTAMP:20260421T053431
CREATED:20230305T173958Z
LAST-MODIFIED:20230305T173958Z
UID:4261-1682157600-1682157600@cansforkids.org
SUMMARY:Can sorting 10.00-12.00
DESCRIPTION:Volunteers are always needed at our recycling centre to help us separate the steel from aluminium cans and prepare them for baling. Gianni Koromia; 1660 Pallouriotissa\, Nicosia
URL:https://cansforkids.org/event/can-sorting-10-00-12-00-62/
LOCATION:Cans For Kids Recycling Centre\, Gianni Koromia\, Pallouriotissa\, Nicosia\, 1660\, Cyprus
CATEGORIES:Events
END:VEVENT
END:VCALENDAR