BEGIN:VCALENDAR
VERSION:2.0
PRODID:-//Cans For Kids - ECPv6.14.2//NONSGML v1.0//EN
CALSCALE:GREGORIAN
METHOD:PUBLISH
X-WR-CALNAME:Cans For Kids
X-ORIGINAL-URL:https://cansforkids.org
X-WR-CALDESC:Events for Cans For Kids
REFRESH-INTERVAL;VALUE=DURATION:PT1H
X-Robots-Tag:noindex
X-PUBLISHED-TTL:PT1H
BEGIN:VTIMEZONE
TZID:UTC
BEGIN:STANDARD
TZOFFSETFROM:+0000
TZOFFSETTO:+0000
TZNAME:UTC
DTSTART:20250101T000000
END:STANDARD
END:VTIMEZONE
BEGIN:VEVENT
DTSTART;TZID=UTC:20251013T200000
DTEND;TZID=UTC:20251013T220000
DTSTAMP:20260422T220740
CREATED:20250808T170456Z
LAST-MODIFIED:20250808T170525Z
UID:4704-1760385600-1760392800@cansforkids.org
SUMMARY:Greek Quiz Night
DESCRIPTION:Our fun quiz night for Greek speakers!
URL:https://cansforkids.org/event/greek-quiz-night-3-copy-copy/
LOCATION:Ταβέρνα “Φιλοθέα”\, Cyprus
END:VEVENT
END:VCALENDAR