BEGIN:VCALENDAR
VERSION:2.0
PRODID:-//Cans For Kids - ECPv6.14.2//NONSGML v1.0//EN
CALSCALE:GREGORIAN
METHOD:PUBLISH
X-WR-CALNAME:Cans For Kids
X-ORIGINAL-URL:https://cansforkids.org
X-WR-CALDESC:Events for Cans For Kids
REFRESH-INTERVAL;VALUE=DURATION:PT1H
X-Robots-Tag:noindex
X-PUBLISHED-TTL:PT1H
BEGIN:VTIMEZONE
TZID:UTC
BEGIN:STANDARD
TZOFFSETFROM:+0000
TZOFFSETTO:+0000
TZNAME:UTC
DTSTART:20180101T000000
END:STANDARD
END:VTIMEZONE
BEGIN:VEVENT
DTSTART;TZID=UTC:20190618T100000
DTEND;TZID=UTC:20190618T120000
DTSTAMP:20260420T062701
CREATED:20190618T153914Z
LAST-MODIFIED:20190618T153914Z
UID:3112-1560852000-1560859200@cansforkids.org
SUMMARY:Can sorting 10.00-12.00
DESCRIPTION:Volunteers are always needed at our recycling centre to help us separate the steel from aluminium cans and prepare them for baling. Gianni Koromia; 1660 Pallouriotissa\, Nicosia
URL:https://cansforkids.org/event/can-sorting-10-00-12-00-7/
LOCATION:Cans For Kids Recycling Centre\, Gianni Koromia\, Pallouriotissa\, Nicosia\, 1660\, Cyprus
END:VEVENT
BEGIN:VEVENT
DTSTART;TZID=UTC:20190615T100000
DTEND;TZID=UTC:20190615T120000
DTSTAMP:20260420T062701
CREATED:20190531T113650Z
LAST-MODIFIED:20190531T113650Z
UID:3088-1560592800-1560600000@cansforkids.org
SUMMARY:Can Sorting 10.00-12.00
DESCRIPTION:Volunteers are always needed at our recycling centre to help us separate the steel from aluminium cans and prepare them for baling. Gianni Koromia; 1660 Pallouriotissa\, Nicosia
URL:https://cansforkids.org/event/can-sorting-10-00-12-00-2/
LOCATION:Nicosia
END:VEVENT
BEGIN:VEVENT
DTSTART;TZID=UTC:20190608T100000
DTEND;TZID=UTC:20190608T120000
DTSTAMP:20260420T062701
CREATED:20190531T113315Z
LAST-MODIFIED:20190531T113502Z
UID:3085-1559988000-1559995200@cansforkids.org
SUMMARY:Can Sorting 10.00-12.00
DESCRIPTION:Volunteers are always needed at our recycling centre to help us separate the steel from aluminium cans and prepare them for baling. Gianni Koromia; 1660 Pallouriotissa\, Nicosia
URL:https://cansforkids.org/event/can-sorting-10-00-12-00/
LOCATION:Nicosia
END:VEVENT
BEGIN:VEVENT
DTSTART;TZID=UTC:20190607T200000
DTEND;TZID=UTC:20190607T230000
DTSTAMP:20260420T062701
CREATED:20190531T112844Z
LAST-MODIFIED:20190531T112844Z
UID:3082-1559937600-1559948400@cansforkids.org
SUMMARY:Quiz and Curry Night
DESCRIPTION:Our monthly quiz night usually takes place on the first Friday of the month. €5 entry fee per person\, with an optional curry buffet for €12. Teams of six\, please\, or come on your own and join a team. It’s a fun way to meet new people. Prizes are kindly donated by Vinologie.
URL:https://cansforkids.org/event/quiz-and-curry-night-3/
LOCATION:CVAR\, Ermou Street 285\, Nicosia\, 1017\, Cyprus
END:VEVENT
BEGIN:VEVENT
DTSTART;TZID=UTC:20190601T100000
DTEND;TZID=UTC:20190601T120000
DTSTAMP:20260420T062701
CREATED:20190531T111852Z
LAST-MODIFIED:20190531T111852Z
UID:3077-1559383200-1559390400@cansforkids.org
SUMMARY:Celebrating World Environment Day
DESCRIPTION:Show you care!\nCelebrate World Environment Day with Cans For Kids. Bring as many cans as possible\, and join us in showing our love and respect for our environment by helping to sort cans for recycling. Wear old clothes\, bring gloves – we guarantee you’ll have fun! Snacks and refreshments sponsored by Vienna Bakeries and Lanitis Bros. \n  \n 
URL:https://cansforkids.org/event/celebrating-world-environment-day/
LOCATION:Cans For Kids Recycling Centre\, Gianni Koromia\, Pallouriotissa\, Nicosia\, 1660\, Cyprus
CATEGORIES:Events
END:VEVENT
BEGIN:VEVENT
DTSTART;TZID=UTC:20190601T100000
DTEND;TZID=UTC:20190601T120000
DTSTAMP:20260420T062701
CREATED:20190407T093549Z
LAST-MODIFIED:20190407T093549Z
UID:2979-1559383200-1559390400@cansforkids.org
SUMMARY:Can Sorting 10.00-12.00
DESCRIPTION:Volunteers are always needed at our recycling centre to help us separate the steel from aluminium cans and prepare them for baling. Gianni Koromia; 1660 Pallouriotissa\, Nicosia
URL:https://cansforkids.org/event/can-sorting-10-12-every-saturday-6-2-2-2-3-5-2-3/
LOCATION:Nicosia
CATEGORIES:Events
END:VEVENT
BEGIN:VEVENT
DTSTART;TZID=UTC:20190525T100000
DTEND;TZID=UTC:20190525T120000
DTSTAMP:20260420T062701
CREATED:20190407T093514Z
LAST-MODIFIED:20190407T093514Z
UID:2980-1558778400-1558785600@cansforkids.org
SUMMARY:Can Sorting 10.00-12.00
DESCRIPTION:Volunteers are always needed at our recycling centre to help us separate the steel from aluminium cans and prepare them for baling. Gianni Koromia; 1660 Pallouriotissa\, Nicosia
URL:https://cansforkids.org/event/can-sorting-10-12-every-saturday-6-2-2-2-3-5-2-2/
LOCATION:Nicosia
CATEGORIES:Events
END:VEVENT
BEGIN:VEVENT
DTSTART;TZID=UTC:20190518T100000
DTEND;TZID=UTC:20190518T120000
DTSTAMP:20260420T062701
CREATED:20190407T093224Z
LAST-MODIFIED:20190407T093224Z
UID:2977-1558173600-1558180800@cansforkids.org
SUMMARY:Can Sorting 10.00-12.00
DESCRIPTION:Volunteers are always needed at our recycling centre to help us separate the steel from aluminium cans and prepare them for baling. Gianni Koromia; 1660 Pallouriotissa\, Nicosia
URL:https://cansforkids.org/event/can-sorting-10-12-every-saturday-6-2-2-2-3-5-2/
LOCATION:Nicosia
CATEGORIES:Events
END:VEVENT
BEGIN:VEVENT
DTSTART;TZID=UTC:20190511T100000
DTEND;TZID=UTC:20190511T120000
DTSTAMP:20260420T062701
CREATED:20190321T153806Z
LAST-MODIFIED:20190321T153806Z
UID:2934-1557568800-1557576000@cansforkids.org
SUMMARY:Can Sorting 10.00-12.00
DESCRIPTION:Volunteers are always needed at our recycling centre to help us separate the steel from aluminium cans and prepare them for baling. Gianni Koromia; 1660 Pallouriotissa\, Nicosia
URL:https://cansforkids.org/event/can-sorting-10-12-every-saturday-6-2-2-2-3-5/
LOCATION:Nicosia
CATEGORIES:Events
END:VEVENT
BEGIN:VEVENT
DTSTART;TZID=UTC:20190504T100000
DTEND;TZID=UTC:20190504T120000
DTSTAMP:20260420T062701
CREATED:20190321T153647Z
LAST-MODIFIED:20190321T153647Z
UID:2935-1556964000-1556971200@cansforkids.org
SUMMARY:Can Sorting 10.00-12.00
DESCRIPTION:Volunteers are always needed at our recycling centre to help us separate the steel from aluminium cans and prepare them for baling. Gianni Koromia; 1660 Pallouriotissa\, Nicosia
URL:https://cansforkids.org/event/can-sorting-10-12-every-saturday-6-2-2-2-3-4/
LOCATION:Nicosia
CATEGORIES:Events
END:VEVENT
BEGIN:VEVENT
DTSTART;TZID=UTC:20190503T200000
DTEND;TZID=UTC:20190503T200000
DTSTAMP:20260420T062701
CREATED:20190407T093652Z
LAST-MODIFIED:20190407T093652Z
UID:2983-1556913600-1556913600@cansforkids.org
SUMMARY:Quiz and curry night
DESCRIPTION:Our monthly quiz night usually takes place on the first Friday of the month. €5 entry fee per person\, with an optional curry buffet for €12. Teams of six\, please\, or come on your own and join a team. It’s a fun way to meet new people. Prizes are kindly donated by Vinologie.
URL:https://cansforkids.org/event/quiz-and-curry-night-2-2-2/
LOCATION:CVAR\, Ermou Street 285\, Nicosia\, 1017\, Cyprus
CATEGORIES:Events
END:VEVENT
BEGIN:VEVENT
DTSTART;TZID=UTC:20190420T100000
DTEND;TZID=UTC:20190421T200000
DTSTAMP:20260420T062701
CREATED:20190407T094516Z
LAST-MODIFIED:20190407T094605Z
UID:2985-1555754400-1555876800@cansforkids.org
SUMMARY:Comic Con
DESCRIPTION:Cans for Kids will have a stand at ComicCon\, pass by and visit us\, or if you would like to volunteer contact us!
URL:https://cansforkids.org/event/comic-con/
LOCATION:Nicosia
CATEGORIES:Events
END:VEVENT
BEGIN:VEVENT
DTSTART;TZID=UTC:20190413T100000
DTEND;TZID=UTC:20190413T120000
DTSTAMP:20260420T062701
CREATED:20190321T153314Z
LAST-MODIFIED:20190321T153405Z
UID:2936-1555149600-1555156800@cansforkids.org
SUMMARY:Can Sorting 10.00-12.00
DESCRIPTION:Volunteers are always needed at our recycling centre to help us separate the steel from aluminium cans and prepare them for baling. Gianni Koromia; 1660 Pallouriotissa\, Nicosia
URL:https://cansforkids.org/event/can-sorting-10-12-every-saturday-6-2-2-2-3-2/
LOCATION:Nicosia
CATEGORIES:Events
END:VEVENT
BEGIN:VEVENT
DTSTART;TZID=UTC:20190406T100000
DTEND;TZID=UTC:20190406T120000
DTSTAMP:20260420T062701
CREATED:20190321T152946Z
LAST-MODIFIED:20190321T152946Z
UID:2932-1554544800-1554552000@cansforkids.org
SUMMARY:Can Sorting 10.00-12.00
DESCRIPTION:Volunteers are always needed at our recycling centre to help us separate the steel from aluminium cans and prepare them for baling. Gianni Koromia; 1660 Pallouriotissa\, Nicosia
URL:https://cansforkids.org/event/can-sorting-10-12-every-saturday-6-2-2-2-3/
LOCATION:Nicosia
CATEGORIES:Events
END:VEVENT
BEGIN:VEVENT
DTSTART;TZID=UTC:20190405T200000
DTEND;TZID=UTC:20190405T200000
DTSTAMP:20260420T062701
CREATED:20190321T154358Z
LAST-MODIFIED:20190321T154358Z
UID:2944-1554494400-1554494400@cansforkids.org
SUMMARY:Quiz and curry night
DESCRIPTION:Our monthly quiz night usually takes place on the first Friday of the month. €5 entry fee per person\, with an optional curry buffet for €12. Teams of six\, please\, or come on your own and join a team. It’s a fun way to meet new people. Prizes are kindly donated by Vinologie.
URL:https://cansforkids.org/event/quiz-and-curry-night-2-2/
LOCATION:CVAR\, Ermou Street 285\, Nicosia\, 1017\, Cyprus
CATEGORIES:Events
END:VEVENT
BEGIN:VEVENT
DTSTART;TZID=UTC:20190330T100000
DTEND;TZID=UTC:20190330T120000
DTSTAMP:20260420T062701
CREATED:20190207T021433Z
LAST-MODIFIED:20190210T144314Z
UID:2601-1553940000-1553947200@cansforkids.org
SUMMARY:Can Sorting 10.00-12.00
DESCRIPTION:Volunteers are always needed at our recycling centre to help us separate the steel from aluminium cans and prepare them for baling. Gianni Koromia; 1660 Pallouriotissa\, Nicosia
URL:https://cansforkids.org/event/can-sorting-10-12-every-saturday-6-2-2-2/
LOCATION:Nicosia
CATEGORIES:Events
END:VEVENT
BEGIN:VEVENT
DTSTART;TZID=UTC:20190323T100000
DTEND;TZID=UTC:20190323T120000
DTSTAMP:20260420T062701
CREATED:20190207T021402Z
LAST-MODIFIED:20190210T144539Z
UID:2599-1553335200-1553342400@cansforkids.org
SUMMARY:Can Sorting 10.00-12.00
DESCRIPTION:Volunteers are always needed at our recycling centre to help us separate the steel from aluminium cans and prepare them for baling. Gianni Koromia; 1660 Pallouriotissa\, Nicosia
URL:https://cansforkids.org/event/can-sorting-10-12-every-saturday-6-2-2/
LOCATION:Nicosia
CATEGORIES:Events
END:VEVENT
BEGIN:VEVENT
DTSTART;TZID=UTC:20190316T100000
DTEND;TZID=UTC:20190316T120000
DTSTAMP:20260420T062701
CREATED:20190207T021321Z
LAST-MODIFIED:20190210T144428Z
UID:2587-1552730400-1552737600@cansforkids.org
SUMMARY:Can Sorting 10.00-12.00
DESCRIPTION:Volunteers are always needed at our recycling centre to help us separate the steel from aluminium cans and prepare them for baling. Gianni Koromia; 1660 Pallouriotissa\, Nicosia
URL:https://cansforkids.org/event/can-sorting-10-12-every-saturday-6-2/
LOCATION:Nicosia
CATEGORIES:Events
END:VEVENT
BEGIN:VEVENT
DTSTART;TZID=UTC:20190309T100000
DTEND;TZID=UTC:20190309T120000
DTSTAMP:20260420T062701
CREATED:20190207T021230Z
LAST-MODIFIED:20190210T144603Z
UID:2588-1552125600-1552132800@cansforkids.org
SUMMARY:Can Sorting 10.00-12.00
DESCRIPTION:Volunteers are always needed at our recycling centre to help us separate the steel from aluminium cans and prepare them for baling. Gianni Koromia; 1660 Pallouriotissa\, Nicosia
URL:https://cansforkids.org/event/can-sorting-10-12-every-saturday-5-6/
LOCATION:Nicosia
CATEGORIES:Events
END:VEVENT
BEGIN:VEVENT
DTSTART;TZID=UTC:20190302T100000
DTEND;TZID=UTC:20190302T120000
DTSTAMP:20260420T062701
CREATED:20190207T021024Z
LAST-MODIFIED:20190210T144531Z
UID:2589-1551520800-1551528000@cansforkids.org
SUMMARY:Can Sorting 10.00-12.00
DESCRIPTION:Volunteers are always needed at our recycling centre to help us separate the steel from aluminium cans and prepare them for baling. Gianni Koromia; 1660 Pallouriotissa\, Nicosia
URL:https://cansforkids.org/event/can-sorting-10-12-every-saturday-5-5/
LOCATION:Nicosia
CATEGORIES:Events
END:VEVENT
BEGIN:VEVENT
DTSTART;TZID=UTC:20190301T200000
DTEND;TZID=UTC:20190301T200000
DTSTAMP:20260420T062701
CREATED:20190207T021825Z
LAST-MODIFIED:20190207T021825Z
UID:2605-1551470400-1551470400@cansforkids.org
SUMMARY:Quiz and curry night
DESCRIPTION:Our monthly quiz night usually takes place on the first Friday of the month. €5 entry fee per person\, with an optional curry buffet for €12. Teams of six\, please\, or come on your own and join a team. It’s a fun way to meet new people. Prizes are kindly donated by Vinologie.
URL:https://cansforkids.org/event/quiz-and-curry-night-2/
LOCATION:CVAR\, Ermou Street 285\, Nicosia\, 1017\, Cyprus
CATEGORIES:Events
END:VEVENT
BEGIN:VEVENT
DTSTART;TZID=UTC:20190223T100000
DTEND;TZID=UTC:20190223T120000
DTSTAMP:20260420T062701
CREATED:20190207T020957Z
LAST-MODIFIED:20190210T144629Z
UID:2590-1550916000-1550923200@cansforkids.org
SUMMARY:Can Sorting 10.00-12.00
DESCRIPTION:Volunteers are always needed at our recycling centre to help us separate the steel from aluminium cans and prepare them for baling. Gianni Koromia; 1660 Pallouriotissa\, Nicosia
URL:https://cansforkids.org/event/can-sorting-10-12-every-saturday-5-4/
LOCATION:Nicosia
CATEGORIES:Events
END:VEVENT
BEGIN:VEVENT
DTSTART;TZID=UTC:20190216T100000
DTEND;TZID=UTC:20190216T120000
DTSTAMP:20260420T062701
CREATED:20190207T020938Z
LAST-MODIFIED:20190210T144632Z
UID:2591-1550311200-1550318400@cansforkids.org
SUMMARY:Can Sorting 10.00-12.00
DESCRIPTION:Volunteers are always needed at our recycling centre to help us separate the steel from aluminium cans and prepare them for baling. Gianni Koromia; 1660 Pallouriotissa\, Nicosia
URL:https://cansforkids.org/event/can-sorting-10-12-every-saturday-5-3/
LOCATION:Nicosia
CATEGORIES:Events
END:VEVENT
BEGIN:VEVENT
DTSTART;TZID=UTC:20190209T100000
DTEND;TZID=UTC:20190209T120000
DTSTAMP:20260420T062701
CREATED:20190207T020855Z
LAST-MODIFIED:20190210T144459Z
UID:2592-1549706400-1549713600@cansforkids.org
SUMMARY:Can Sorting 10.00-12.00
DESCRIPTION:Volunteers are always needed at our recycling centre to help us separate the steel from aluminium cans and prepare them for baling. Gianni Koromia; 1660 Pallouriotissa\, Nicosia
URL:https://cansforkids.org/event/can-sorting-10-12-every-saturday-5-2/
LOCATION:Nicosia
CATEGORIES:Events
END:VEVENT
BEGIN:VEVENT
DTSTART;TZID=UTC:20190202T100000
DTEND;TZID=UTC:20190202T120000
DTSTAMP:20260420T062701
CREATED:20190207T021525Z
LAST-MODIFIED:20190210T144503Z
UID:2603-1549101600-1549108800@cansforkids.org
SUMMARY:Can Sorting 10.00-12.00
DESCRIPTION:Volunteers are always needed at our recycling centre to help us separate the steel from aluminium cans and prepare them for baling. Gianni Koromia; 1660 Pallouriotissa\, Nicosia
URL:https://cansforkids.org/event/can-sorting-10-12-every-saturday-6-2-2-2-2/
LOCATION:Nicosia
CATEGORIES:Events
END:VEVENT
BEGIN:VEVENT
DTSTART;TZID=UTC:20181215T100000
DTEND;TZID=UTC:20181215T160000
DTSTAMP:20260420T062701
CREATED:20181116T084426Z
LAST-MODIFIED:20181119T124710Z
UID:2050-1544868000-1544889600@cansforkids.org
SUMMARY:Rags to Bags
DESCRIPTION:Sewing and selling hand-made bags – just in time for Christmas! Peace Hall\, Ledra Street
URL:https://cansforkids.org/event/rags-to-bags/
LOCATION:Nicosia
CATEGORIES:Events
END:VEVENT
BEGIN:VEVENT
DTSTART;TZID=UTC:20181215T100000
DTEND;TZID=UTC:20181215T120000
DTSTAMP:20260420T062701
CREATED:20181115T130445Z
LAST-MODIFIED:20181115T130445Z
UID:2033-1544868000-1544875200@cansforkids.org
SUMMARY:Can sorting 10 – 12 every Saturday
DESCRIPTION:Volunteers are always needed at our recycling centre to help us separate the steel from aluminium cans and prepare them for baling. Gianni Koromia; 1660 Pallouriotissa\, Nicosia
URL:https://cansforkids.org/event/can-sorting-10-12-every-saturday-5/
LOCATION:Nicosia
CATEGORIES:Events
END:VEVENT
BEGIN:VEVENT
DTSTART;TZID=UTC:20181214T200000
DTEND;TZID=UTC:20181214T200000
DTSTAMP:20260420T062701
CREATED:20181116T043928Z
LAST-MODIFIED:20181124T132850Z
UID:2045-1544817600-1544817600@cansforkids.org
SUMMARY:Quiz and curry night
DESCRIPTION:Our monthly quiz night usually takes place on the first Friday of the month. €5 entry fee per person\, with an optional curry buffet for €12. Teams of six\, please\, or come on your own and join a team. It’s a fun way to meet new people. Prizes are kindly donated by Vinologie.
URL:https://cansforkids.org/event/quiz-and-curry-night/
LOCATION:CVAR\, Ermou Street 285\, Nicosia\, 1017\, Cyprus
CATEGORIES:Events
END:VEVENT
BEGIN:VEVENT
DTSTART;TZID=UTC:20181208T100000
DTEND;TZID=UTC:20181208T120000
DTSTAMP:20260420T062701
CREATED:20181115T130415Z
LAST-MODIFIED:20181115T130415Z
UID:2032-1544263200-1544270400@cansforkids.org
SUMMARY:Can sorting 10 – 12 every Saturday
DESCRIPTION:Volunteers are always needed at our recycling centre to help us separate the steel from aluminium cans and prepare them for baling. Gianni Koromia; 1660 Pallouriotissa\, Nicosia
URL:https://cansforkids.org/event/can-sorting-10-12-every-saturday-4/
LOCATION:Nicosia
CATEGORIES:Events
END:VEVENT
BEGIN:VEVENT
DTSTART;TZID=UTC:20181201T100000
DTEND;TZID=UTC:20181201T120000
DTSTAMP:20260420T062702
CREATED:20181115T130342Z
LAST-MODIFIED:20181115T130342Z
UID:2034-1543658400-1543665600@cansforkids.org
SUMMARY:Can sorting 10 – 12 every Saturday
DESCRIPTION:Volunteers are always needed at our recycling centre to help us separate the steel from aluminium cans and prepare them for baling. Gianni Koromia; 1660 Pallouriotissa\, Nicosia
URL:https://cansforkids.org/event/can-sorting-10-12-every-saturday-3/
LOCATION:Nicosia
CATEGORIES:Events
END:VEVENT
END:VCALENDAR