BEGIN:VCALENDAR
VERSION:2.0
PRODID:-//Cans For Kids - ECPv6.14.2//NONSGML v1.0//EN
CALSCALE:GREGORIAN
METHOD:PUBLISH
X-WR-CALNAME:Cans For Kids
X-ORIGINAL-URL:https://cansforkids.org
X-WR-CALDESC:Events for Cans For Kids
REFRESH-INTERVAL;VALUE=DURATION:PT1H
X-Robots-Tag:noindex
X-PUBLISHED-TTL:PT1H
BEGIN:VTIMEZONE
TZID:UTC
BEGIN:STANDARD
TZOFFSETFROM:+0000
TZOFFSETTO:+0000
TZNAME:UTC
DTSTART:20180101T000000
END:STANDARD
END:VTIMEZONE
BEGIN:VEVENT
DTSTART;TZID=UTC:20181128T100000
DTEND;TZID=UTC:20181128T130000
DTSTAMP:20260420T163338
CREATED:20181116T084254Z
LAST-MODIFIED:20181116T084309Z
UID:2048-1543399200-1543410000@cansforkids.org
SUMMARY:Street clean-up
DESCRIPTION:Τhe main campus of the University of Nicosia\, Makedonitissis 46\, Nicosia 2417. Organised by students at the University\, we will be joining them to clear the area of discarded items and sort them for recycling.
URL:https://cansforkids.org/event/street-clean-up/
LOCATION:Nicosia
CATEGORIES:Events
END:VEVENT
BEGIN:VEVENT
DTSTART;TZID=UTC:20181126T190000
DTEND;TZID=UTC:20181126T190000
DTSTAMP:20260420T163338
CREATED:20181116T043728Z
LAST-MODIFIED:20181116T043812Z
UID:2043-1543258800-1543258800@cansforkids.org
SUMMARY:Annual General Meeting
DESCRIPTION:7.00 pm\, at 5 Vosporou Street\, Strovolos\, 2060 Nicosia
URL:https://cansforkids.org/event/annual-general-meeting/
LOCATION:Nicosia
END:VEVENT
BEGIN:VEVENT
DTSTART;TZID=UTC:20181124T100000
DTEND;TZID=UTC:20181124T120000
DTSTAMP:20260420T163338
CREATED:20181124T135141Z
LAST-MODIFIED:20181124T135141Z
UID:2143-1543053600-1543060800@cansforkids.org
SUMMARY:Can sorting 10 – 12 every Saturday
DESCRIPTION:Volunteers are always needed at our recycling centre to help us separate the steel from aluminium cans and prepare them for baling. Gianni Koromia; 1660 Pallouriotissa\, Nicosia
URL:https://cansforkids.org/event/can-sorting-10-12-every-saturday-6/
LOCATION:Nicosia
CATEGORIES:Events
END:VEVENT
BEGIN:VEVENT
DTSTART;TZID=UTC:20181124T100000
DTEND;TZID=UTC:20181124T120000
DTSTAMP:20260420T163338
CREATED:20181115T130311Z
LAST-MODIFIED:20181115T130311Z
UID:2035-1543053600-1543060800@cansforkids.org
SUMMARY:Can sorting 10 – 12 every Saturday
DESCRIPTION:Volunteers are always needed at our recycling centre to help us separate the steel from aluminium cans and prepare them for baling. Gianni Koromia; 1660 Pallouriotissa\, Nicosia
URL:https://cansforkids.org/event/can-sorting-10-12-every-saturday-2/
LOCATION:Nicosia
CATEGORIES:Events
END:VEVENT
BEGIN:VEVENT
DTSTART;TZID=UTC:20181117T140000
DTEND;TZID=UTC:20181117T170000
DTSTAMP:20260420T163338
CREATED:20181115T130813Z
LAST-MODIFIED:20181115T130813Z
UID:2041-1542463200-1542474000@cansforkids.org
SUMMARY:Rags to Bags upcycling workshop
DESCRIPTION:Ledra Palace. A friendly gathering of people who sew – and some who don’t! We make hand-crafted bags from donated fabric or old clothes to encourage people to ditch plastic bags when they go shopping.
URL:https://cansforkids.org/event/rags-to-bags-upcycling-workshop/
LOCATION:Nicosia
END:VEVENT
BEGIN:VEVENT
DTSTART;TZID=UTC:20181117T100000
DTEND;TZID=UTC:20181117T120000
DTSTAMP:20260420T163338
CREATED:20181115T130102Z
LAST-MODIFIED:20181115T130605Z
UID:2030-1542448800-1542456000@cansforkids.org
SUMMARY:Can sorting 10 – 12 every Saturday
DESCRIPTION:Volunteers are always needed at our recycling centre to help us separate the steel from aluminium cans and prepare them for baling. Gianni Koromia; 1660 Pallouriotissa\, Nicosia
URL:https://cansforkids.org/event/can-sorting-10-12-every-saturday/
LOCATION:Nicosia
CATEGORIES:Events
END:VEVENT
END:VCALENDAR