BEGIN:VCALENDAR
VERSION:2.0
PRODID:-//Cans For Kids - ECPv6.14.2//NONSGML v1.0//EN
CALSCALE:GREGORIAN
METHOD:PUBLISH
X-ORIGINAL-URL:https://cansforkids.org
X-WR-CALDESC:Events for Cans For Kids
REFRESH-INTERVAL;VALUE=DURATION:PT1H
X-Robots-Tag:noindex
X-PUBLISHED-TTL:PT1H
BEGIN:VTIMEZONE
TZID:UTC
BEGIN:STANDARD
TZOFFSETFROM:+0000
TZOFFSETTO:+0000
TZNAME:UTC
DTSTART:20190101T000000
END:STANDARD
END:VTIMEZONE
BEGIN:VEVENT
DTSTART;TZID=UTC:20190906T200000
DTEND;TZID=UTC:20190906T230000
DTSTAMP:20260420T025951
CREATED:20190810T105835Z
LAST-MODIFIED:20190810T105835Z
UID:3142-1567800000-1567810800@cansforkids.org
SUMMARY:Quiz and Curry Night
DESCRIPTION:Our monthly quiz night usually takes place on the first Friday of the month. €5 entry fee per person\, with an optional curry buffet for €12. Teams of six\, please\, or come on your own and join a team. It’s a fun way to meet new people. Prizes are kindly donated by Vinologie.
URL:https://cansforkids.org/event/quiz-and-curry-night-6/
LOCATION:CVAR\, Ermou Street 285\, Nicosia\, 1017\, Cyprus
CATEGORIES:Events
END:VEVENT
BEGIN:VEVENT
DTSTART;TZID=UTC:20190907T100000
DTEND;TZID=UTC:20190907T120000
DTSTAMP:20260420T025951
CREATED:20190810T110350Z
LAST-MODIFIED:20190810T110350Z
UID:3148-1567850400-1567857600@cansforkids.org
SUMMARY:Can sorting 10.00-12.00
DESCRIPTION:Volunteers are always needed at our recycling centre to help us separate the steel from aluminium cans and prepare them for baling. Gianni Koromia; 1660 Pallouriotissa\, Nicosia
URL:https://cansforkids.org/event/can-sorting-10-00-12-00-9-2-2-2-2-2/
LOCATION:Cans For Kids Recycling Centre\, Gianni Koromia\, Pallouriotissa\, Nicosia\, 1660\, Cyprus
CATEGORIES:Events
END:VEVENT
BEGIN:VEVENT
DTSTART;TZID=UTC:20190914T100000
DTEND;TZID=UTC:20190914T120000
DTSTAMP:20260420T025951
CREATED:20190902T124022Z
LAST-MODIFIED:20190902T124022Z
UID:3154-1568455200-1568462400@cansforkids.org
SUMMARY:Can sorting 10.00-12.00
DESCRIPTION:Volunteers are always needed at our recycling centre to help us separate the steel from aluminium cans and prepare them for baling. Gianni Koromia; 1660 Pallouriotissa\, Nicosia
URL:https://cansforkids.org/event/can-sorting-10-00-12-00-9-2-2-2-2-2-2/
LOCATION:Cans For Kids Recycling Centre\, Gianni Koromia\, Pallouriotissa\, Nicosia\, 1660\, Cyprus
CATEGORIES:Events
END:VEVENT
BEGIN:VEVENT
DTSTART;TZID=UTC:20190916T200000
DTEND;TZID=UTC:20190916T230000
DTSTAMP:20260420T025951
CREATED:20190607T063838Z
LAST-MODIFIED:20190902T123650Z
UID:3096-1568664000-1568674800@cansforkids.org
SUMMARY:Quiz in Greek
DESCRIPTION:1ο Ομαδικό Διαγωνισμό Ερωτήσεων στα Ελληνικά! \nσυμμετάσχετε μαζί μας σε ενα μοναδικό ταξίδι γνώσεων και διασκέδασης!\nΤοποθεσία: Ταβέρνα “Φιλοθέα” τηλ: 22-91050\n\nΟίκημα Συνδέσμου Διαιτητών Κύπρου\, Φιλοπάππου 95\, Κάτω Λακατάμια\, 2328\nΚόστος Συμμετοχής: 5 ευρώ ανά άτομο (Μέγιστος αριθμός συμμετεχόντων ανά ομάδα: 6)\n*Μπορείτε να συμμετάσχετε εαν δεν έχετε οργανώσει ομάδα σε ομάδες που δεν έχουν συμπληρώσει αριθμό ατόμων ή ακόμα και ατομικα!
URL:https://cansforkids.org/event/quiz-in-greek-2/
LOCATION:Ταβέρνα “Φιλοθέα”\, Cyprus
CATEGORIES:Events
END:VEVENT
BEGIN:VEVENT
DTSTART;TZID=UTC:20190921T100000
DTEND;TZID=UTC:20190921T120000
DTSTAMP:20260420T025951
CREATED:20190810T110446Z
LAST-MODIFIED:20190902T123857Z
UID:3150-1569060000-1569067200@cansforkids.org
SUMMARY:Can sorting 10.00-12.00
DESCRIPTION:Volunteers are always needed at our recycling centre to help us separate the steel from aluminium cans and prepare them for baling. Gianni Koromia; 1660 Pallouriotissa\, Nicosia
URL:https://cansforkids.org/event/can-sorting-10-00-12-00-9-2-2-2-2-2-2-2/
LOCATION:Cans For Kids Recycling Centre\, Gianni Koromia\, Pallouriotissa\, Nicosia\, 1660\, Cyprus
CATEGORIES:Events
END:VEVENT
BEGIN:VEVENT
DTSTART;TZID=UTC:20190928T100000
DTEND;TZID=UTC:20190928T120000
DTSTAMP:20260420T025951
CREATED:20190902T124201Z
LAST-MODIFIED:20190902T124201Z
UID:3156-1569664800-1569672000@cansforkids.org
SUMMARY:Can sorting 10.00-12.00
DESCRIPTION:Volunteers are always needed at our recycling centre to help us separate the steel from aluminium cans and prepare them for baling. Gianni Koromia; 1660 Pallouriotissa\, Nicosia
URL:https://cansforkids.org/event/can-sorting-10-00-12-00-9-2-2-2-2-2-2-2-2/
LOCATION:Cans For Kids Recycling Centre\, Gianni Koromia\, Pallouriotissa\, Nicosia\, 1660\, Cyprus
CATEGORIES:Events
END:VEVENT
END:VCALENDAR