BEGIN:VCALENDAR
VERSION:2.0
PRODID:-//Cans For Kids - ECPv6.14.2//NONSGML v1.0//EN
CALSCALE:GREGORIAN
METHOD:PUBLISH
X-ORIGINAL-URL:https://cansforkids.org
X-WR-CALDESC:Events for Cans For Kids
REFRESH-INTERVAL;VALUE=DURATION:PT1H
X-Robots-Tag:noindex
X-PUBLISHED-TTL:PT1H
BEGIN:VTIMEZONE
TZID:UTC
BEGIN:STANDARD
TZOFFSETFROM:+0000
TZOFFSETTO:+0000
TZNAME:UTC
DTSTART:20210101T000000
END:STANDARD
END:VTIMEZONE
BEGIN:VEVENT
DTSTART;TZID=UTC:20211002T100000
DTEND;TZID=UTC:20211002T120000
DTSTAMP:20260421T021713
CREATED:20210719T145503Z
LAST-MODIFIED:20210719T145503Z
UID:3800-1633168800-1633176000@cansforkids.org
SUMMARY:Can sorting 10.00-12.00
DESCRIPTION:Volunteers are always needed at our recycling centre to help us separate the steel from aluminium cans and prepare them for baling. Gianni Koromia; 1660 Pallouriotissa\, Nicosia
URL:https://cansforkids.org/event/can-sorting-10-00-12-00-9-2-2-2-2-2-2-2-2-2-2-2-2-2-2-2-2-2-2-2-2-2-2-2-2-2-2-2-2-2-2-2-2-2-2-2-4-4-2-2-2-2-2-2-2-2-2-2-2-2-2-2-2-2-2-2-2-2-2-2-2-2-2-3-2-2-2-2-2-2-2-2-2-2-2-3-2-3-2-2-3-2-2-2-2-2-2-11/
LOCATION:Cans For Kids Recycling Centre\, Gianni Koromia\, Pallouriotissa\, Nicosia\, 1660\, Cyprus
CATEGORIES:Events
END:VEVENT
BEGIN:VEVENT
DTSTART;TZID=UTC:20211008T200000
DTEND;TZID=UTC:20211008T230000
DTSTAMP:20260421T021713
CREATED:20210719T141843Z
LAST-MODIFIED:20210719T141843Z
UID:3786-1633723200-1633734000@cansforkids.org
SUMMARY:Open air Quiz and Curry Night
DESCRIPTION:Social distancing will be in force. €5 entry fee per person; optional curry supper available for just €8! Teams of six\, please\, or come on your own and join a team. It’s a fun way to meet new people. Prizes kindly donated by Vinologie.
URL:https://cansforkids.org/event/quiz-and-curry-night-6-2-2-2-2-2-2-2-2-2-2-2-2-2-2-2/
LOCATION:Pizza Mine\, 28th October 37\, Egkomi 2414\, Nicosia
CATEGORIES:Events
END:VEVENT
BEGIN:VEVENT
DTSTART;TZID=UTC:20211009T100000
DTEND;TZID=UTC:20211009T120000
DTSTAMP:20260421T021713
CREATED:20210719T145602Z
LAST-MODIFIED:20210719T145602Z
UID:3802-1633773600-1633780800@cansforkids.org
SUMMARY:Can sorting 10.00-12.00
DESCRIPTION:Volunteers are always needed at our recycling centre to help us separate the steel from aluminium cans and prepare them for baling. Gianni Koromia; 1660 Pallouriotissa\, Nicosia
URL:https://cansforkids.org/event/can-sorting-10-00-12-00-9-2-2-2-2-2-2-2-2-2-2-2-2-2-2-2-2-2-2-2-2-2-2-2-2-2-2-2-2-2-2-2-2-2-2-2-4-4-2-2-2-2-2-2-2-2-2-2-2-2-2-2-2-2-2-2-2-2-2-2-2-2-2-3-2-2-2-2-2-2-2-2-2-2-2-3-2-3-2-2-3-2-2-2-2-2-2-12/
LOCATION:Cans For Kids Recycling Centre\, Gianni Koromia\, Pallouriotissa\, Nicosia\, 1660\, Cyprus
CATEGORIES:Events
END:VEVENT
BEGIN:VEVENT
DTSTART;TZID=UTC:20211016T100000
DTEND;TZID=UTC:20211016T120000
DTSTAMP:20260421T021713
CREATED:20210719T145808Z
LAST-MODIFIED:20210719T145808Z
UID:3804-1634378400-1634385600@cansforkids.org
SUMMARY:Can sorting 10.00-12.00
DESCRIPTION:Volunteers are always needed at our recycling centre to help us separate the steel from aluminium cans and prepare them for baling. Gianni Koromia; 1660 Pallouriotissa\, Nicosia
URL:https://cansforkids.org/event/can-sorting-10-00-12-00-9-2-2-2-2-2-2-2-2-2-2-2-2-2-2-2-2-2-2-2-2-2-2-2-2-2-2-2-2-2-2-2-2-2-2-2-4-4-2-2-2-2-2-2-2-2-2-2-2-2-2-2-2-2-2-2-2-2-2-2-2-2-2-3-2-2-2-2-2-2-2-2-2-2-2-3-2-3-2-2-3-2-2-2-2-2-2-13/
LOCATION:Cans For Kids Recycling Centre\, Gianni Koromia\, Pallouriotissa\, Nicosia\, 1660\, Cyprus
CATEGORIES:Events
END:VEVENT
BEGIN:VEVENT
DTSTART;TZID=UTC:20211023T100000
DTEND;TZID=UTC:20211023T120000
DTSTAMP:20260421T021713
CREATED:20210719T145904Z
LAST-MODIFIED:20210719T145904Z
UID:3806-1634983200-1634990400@cansforkids.org
SUMMARY:Can sorting 10.00-12.00
DESCRIPTION:Volunteers are always needed at our recycling centre to help us separate the steel from aluminium cans and prepare them for baling. Gianni Koromia; 1660 Pallouriotissa\, Nicosia
URL:https://cansforkids.org/event/can-sorting-10-00-12-00-9-2-2-2-2-2-2-2-2-2-2-2-2-2-2-2-2-2-2-2-2-2-2-2-2-2-2-2-2-2-2-2-2-2-2-2-4-4-2-2-2-2-2-2-2-2-2-2-2-2-2-2-2-2-2-2-2-2-2-2-2-2-2-3-2-2-2-2-2-2-2-2-2-2-2-3-2-3-2-2-3-2-2-2-2-2-2-14/
LOCATION:Cans For Kids Recycling Centre\, Gianni Koromia\, Pallouriotissa\, Nicosia\, 1660\, Cyprus
CATEGORIES:Events
END:VEVENT
BEGIN:VEVENT
DTSTART;TZID=UTC:20211030T100000
DTEND;TZID=UTC:20211030T120000
DTSTAMP:20260421T021713
CREATED:20210719T150033Z
LAST-MODIFIED:20210719T150033Z
UID:3808-1635588000-1635595200@cansforkids.org
SUMMARY:Can sorting 10.00-12.00
DESCRIPTION:Volunteers are always needed at our recycling centre to help us separate the steel from aluminium cans and prepare them for baling. Gianni Koromia; 1660 Pallouriotissa\, Nicosia
URL:https://cansforkids.org/event/can-sorting-10-00-12-00-9-2-2-2-2-2-2-2-2-2-2-2-2-2-2-2-2-2-2-2-2-2-2-2-2-2-2-2-2-2-2-2-2-2-2-2-4-4-2-2-2-2-2-2-2-2-2-2-2-2-2-2-2-2-2-2-2-2-2-2-2-2-2-3-2-2-2-2-2-2-2-2-2-2-2-3-2-3-2-2-3-2-2-2-2-2-2-15/
LOCATION:Cans For Kids Recycling Centre\, Gianni Koromia\, Pallouriotissa\, Nicosia\, 1660\, Cyprus
CATEGORIES:Events
END:VEVENT
END:VCALENDAR