BEGIN:VCALENDAR
VERSION:2.0
PRODID:-//Cans For Kids - ECPv6.14.2//NONSGML v1.0//EN
CALSCALE:GREGORIAN
METHOD:PUBLISH
X-WR-CALNAME:Cans For Kids
X-ORIGINAL-URL:https://cansforkids.org
X-WR-CALDESC:Events for Cans For Kids
REFRESH-INTERVAL;VALUE=DURATION:PT1H
X-Robots-Tag:noindex
X-PUBLISHED-TTL:PT1H
BEGIN:VTIMEZONE
TZID:UTC
BEGIN:STANDARD
TZOFFSETFROM:+0000
TZOFFSETTO:+0000
TZNAME:UTC
DTSTART:20220101T000000
END:STANDARD
END:VTIMEZONE
BEGIN:VEVENT
DTSTART;TZID=UTC:20220902T200000
DTEND;TZID=UTC:20220902T230000
DTSTAMP:20260421T152937
CREATED:20220807T145643Z
LAST-MODIFIED:20220807T145643Z
UID:4008-1662148800-1662159600@cansforkids.org
SUMMARY:Quiz and Curry Night
DESCRIPTION:Social distancing will be in force. €5 entry fee per person; optional curry supper available for just €8! Teams of six\, please\, or come on your own and join a team. It’s a fun way to meet new people. Prizes kindly donated by Vinologie.
URL:https://cansforkids.org/event/quiz-and-curry-night-12/
LOCATION:Pizza Mine\, 28th October 37\, Egkomi 2414\, Nicosia
CATEGORIES:Events
END:VEVENT
BEGIN:VEVENT
DTSTART;TZID=UTC:20220903T100000
DTEND;TZID=UTC:20220903T120000
DTSTAMP:20260421T152937
CREATED:20220807T145725Z
LAST-MODIFIED:20220807T145725Z
UID:4010-1662199200-1662206400@cansforkids.org
SUMMARY:Can sorting 10.00-12.00
DESCRIPTION:Volunteers are always needed at our recycling centre to help us separate the steel from aluminium cans and prepare them for baling. Gianni Koromia; 1660 Pallouriotissa\, Nicosia
URL:https://cansforkids.org/event/can-sorting-10-00-12-00-32/
LOCATION:Cans For Kids Recycling Centre\, Gianni Koromia\, Pallouriotissa\, Nicosia\, 1660\, Cyprus
CATEGORIES:Events
END:VEVENT
BEGIN:VEVENT
DTSTART;TZID=UTC:20220910T100000
DTEND;TZID=UTC:20220910T120000
DTSTAMP:20260421T152937
CREATED:20220807T145753Z
LAST-MODIFIED:20220807T145753Z
UID:4012-1662804000-1662811200@cansforkids.org
SUMMARY:Can sorting 10.00-12.00
DESCRIPTION:Volunteers are always needed at our recycling centre to help us separate the steel from aluminium cans and prepare them for baling. Gianni Koromia; 1660 Pallouriotissa\, Nicosia
URL:https://cansforkids.org/event/can-sorting-10-00-12-00-33/
LOCATION:Cans For Kids Recycling Centre\, Gianni Koromia\, Pallouriotissa\, Nicosia\, 1660\, Cyprus
CATEGORIES:Events
END:VEVENT
BEGIN:VEVENT
DTSTART;TZID=UTC:20220917T100000
DTEND;TZID=UTC:20220917T120000
DTSTAMP:20260421T152937
CREATED:20220807T145845Z
LAST-MODIFIED:20220807T145845Z
UID:4014-1663408800-1663416000@cansforkids.org
SUMMARY:Can sorting 10.00-12.00
DESCRIPTION:Volunteers are always needed at our recycling centre to help us separate the steel from aluminium cans and prepare them for baling. Gianni Koromia; 1660 Pallouriotissa\, Nicosia
URL:https://cansforkids.org/event/can-sorting-10-00-12-00-34/
LOCATION:Cans For Kids Recycling Centre\, Gianni Koromia\, Pallouriotissa\, Nicosia\, 1660\, Cyprus
CATEGORIES:Events
END:VEVENT
BEGIN:VEVENT
DTSTART;TZID=UTC:20220924T100000
DTEND;TZID=UTC:20220924T120000
DTSTAMP:20260421T152937
CREATED:20220807T145937Z
LAST-MODIFIED:20220807T145937Z
UID:4016-1664013600-1664020800@cansforkids.org
SUMMARY:Can sorting 10.00-12.00
DESCRIPTION:Volunteers are always needed at our recycling centre to help us separate the steel from aluminium cans and prepare them for baling. Gianni Koromia; 1660 Pallouriotissa\, Nicosia
URL:https://cansforkids.org/event/can-sorting-10-00-12-00-35/
LOCATION:Cans For Kids Recycling Centre\, Gianni Koromia\, Pallouriotissa\, Nicosia\, 1660\, Cyprus
CATEGORIES:Events
END:VEVENT
END:VCALENDAR