BEGIN:VCALENDAR
VERSION:2.0
PRODID:-//Cans For Kids - ECPv6.14.2//NONSGML v1.0//EN
CALSCALE:GREGORIAN
METHOD:PUBLISH
X-ORIGINAL-URL:https://cansforkids.org
X-WR-CALDESC:Events for Cans For Kids
REFRESH-INTERVAL;VALUE=DURATION:PT1H
X-Robots-Tag:noindex
X-PUBLISHED-TTL:PT1H
BEGIN:VTIMEZONE
TZID:UTC
BEGIN:STANDARD
TZOFFSETFROM:+0000
TZOFFSETTO:+0000
TZNAME:UTC
DTSTART:20220101T000000
END:STANDARD
END:VTIMEZONE
BEGIN:VEVENT
DTSTART;TZID=UTC:20221203T100000
DTEND;TZID=UTC:20221203T120000
DTSTAMP:20260421T202940
CREATED:20221030T162039Z
LAST-MODIFIED:20221030T162039Z
UID:4111-1670061600-1670068800@cansforkids.org
SUMMARY:Can sorting 10.00-12.00
DESCRIPTION:Volunteers are always needed at our recycling centre to help us separate the steel from aluminium cans and prepare them for baling. Gianni Koromia; 1660 Pallouriotissa\, Nicosia
URL:https://cansforkids.org/event/can-sorting-10-00-12-00-45/
LOCATION:Cans For Kids Recycling Centre\, Gianni Koromia\, Pallouriotissa\, Nicosia\, 1660\, Cyprus
CATEGORIES:Events
END:VEVENT
BEGIN:VEVENT
DTSTART;TZID=UTC:20221210T100000
DTEND;TZID=UTC:20221210T100000
DTSTAMP:20260421T202940
CREATED:20221030T162136Z
LAST-MODIFIED:20221030T162136Z
UID:4113-1670666400-1670666400@cansforkids.org
SUMMARY:Can sorting 10.00-12.00
DESCRIPTION:Volunteers are always needed at our recycling centre to help us separate the steel from aluminium cans and prepare them for baling. Gianni Koromia; 1660 Pallouriotissa\, Nicosia
URL:https://cansforkids.org/event/can-sorting-10-00-12-00-46/
LOCATION:Cans For Kids Recycling Centre\, Gianni Koromia\, Pallouriotissa\, Nicosia\, 1660\, Cyprus
CATEGORIES:Events
END:VEVENT
BEGIN:VEVENT
DTSTART;TZID=UTC:20221217T100000
DTEND;TZID=UTC:20221217T100000
DTSTAMP:20260421T202940
CREATED:20221030T162228Z
LAST-MODIFIED:20221030T162228Z
UID:4115-1671271200-1671271200@cansforkids.org
SUMMARY:Can sorting 10.00-12.00
DESCRIPTION:Volunteers are always needed at our recycling centre to help us separate the steel from aluminium cans and prepare them for baling. Gianni Koromia; 1660 Pallouriotissa\, Nicosia
URL:https://cansforkids.org/event/can-sorting-10-00-12-00-47/
LOCATION:Cans For Kids Recycling Centre\, Gianni Koromia\, Pallouriotissa\, Nicosia\, 1660\, Cyprus
CATEGORIES:Events
END:VEVENT
BEGIN:VEVENT
DTSTART;TZID=UTC:20221224T100000
DTEND;TZID=UTC:20221224T110000
DTSTAMP:20260421T202940
CREATED:20221030T164011Z
LAST-MODIFIED:20221030T164011Z
UID:4130-1671876000-1671879600@cansforkids.org
SUMMARY:Christmas break
DESCRIPTION:Enjoy the festivities! Merry Christmas!
URL:https://cansforkids.org/event/christmas-break/
END:VEVENT
BEGIN:VEVENT
DTSTART;TZID=UTC:20221231T100000
DTEND;TZID=UTC:20221231T110000
DTSTAMP:20260421T202940
CREATED:20221030T164157Z
LAST-MODIFIED:20221030T164157Z
UID:4132-1672480800-1672484400@cansforkids.org
SUMMARY:New Year day off
DESCRIPTION:Happy New Year! Thank you all for your help in 2022; bring it on in 2023!
URL:https://cansforkids.org/event/new-year-day-off/
END:VEVENT
END:VCALENDAR