BEGIN:VCALENDAR
VERSION:2.0
PRODID:-//Cans For Kids - ECPv6.14.2//NONSGML v1.0//EN
CALSCALE:GREGORIAN
METHOD:PUBLISH
X-ORIGINAL-URL:https://cansforkids.org
X-WR-CALDESC:Events for Cans For Kids
REFRESH-INTERVAL;VALUE=DURATION:PT1H
X-Robots-Tag:noindex
X-PUBLISHED-TTL:PT1H
BEGIN:VTIMEZONE
TZID:UTC
BEGIN:STANDARD
TZOFFSETFROM:+0000
TZOFFSETTO:+0000
TZNAME:UTC
DTSTART:20240101T000000
END:STANDARD
END:VTIMEZONE
BEGIN:VEVENT
DTSTART;TZID=UTC:20240202T200000
DTEND;TZID=UTC:20240202T230000
DTSTAMP:20260422T224520
CREATED:20240129T055919Z
LAST-MODIFIED:20240129T055919Z
UID:4489-1706904000-1706914800@cansforkids.org
SUMMARY:Quiz Night
DESCRIPTION:Please note new venue! Yummy snacks and platters available. €5 entry fee per person; teams of six\, please\, or come on your own and join a team. It’s a fun way to meet new people. Prizes kindly donated by Vinologie.
URL:https://cansforkids.org/event/quiz-night-4/
LOCATION:Καφενείο η μικρή Ροδιά Πλατεία Κυριάκου Καραολή 5 2108 Nicosia\, Πλατεία Κυριάκου Καραολή 5 2108 Nicosia\, Nicosia\, Cyprus
END:VEVENT
BEGIN:VEVENT
DTSTART;TZID=UTC:20240203T100000
DTEND;TZID=UTC:20240203T120000
DTSTAMP:20260422T224520
CREATED:20240129T055446Z
LAST-MODIFIED:20240129T055446Z
UID:4478-1706954400-1706961600@cansforkids.org
SUMMARY:Can sorting 10.00-12.00
DESCRIPTION:Volunteers are always needed at our recycling centre to help us separate the steel from aluminium cans and prepare them for baling. Gianni Koromia; 1660 Pallouriotissa\, Nicosia
URL:https://cansforkids.org/event/can-sorting-10-00-12-00-92/
LOCATION:Cans For Kids Recycling Centre\, Gianni Koromia\, Pallouriotissa\, Nicosia\, 1660\, Cyprus
CATEGORIES:Events
END:VEVENT
BEGIN:VEVENT
DTSTART;TZID=UTC:20240210T100000
DTEND;TZID=UTC:20240210T120000
DTSTAMP:20260422T224520
CREATED:20240129T055512Z
LAST-MODIFIED:20240129T055512Z
UID:4480-1707559200-1707566400@cansforkids.org
SUMMARY:Can sorting 10.00-12.00
DESCRIPTION:Volunteers are always needed at our recycling centre to help us separate the steel from aluminium cans and prepare them for baling. Gianni Koromia; 1660 Pallouriotissa\, Nicosia
URL:https://cansforkids.org/event/can-sorting-10-00-12-00-93/
LOCATION:Cans For Kids Recycling Centre\, Gianni Koromia\, Pallouriotissa\, Nicosia\, 1660\, Cyprus
CATEGORIES:Events
END:VEVENT
BEGIN:VEVENT
DTSTART;TZID=UTC:20240217T100000
DTEND;TZID=UTC:20240217T120000
DTSTAMP:20260422T224520
CREATED:20240129T055543Z
LAST-MODIFIED:20240129T055543Z
UID:4479-1708164000-1708171200@cansforkids.org
SUMMARY:Can sorting 10.00-12.00
DESCRIPTION:Volunteers are always needed at our recycling centre to help us separate the steel from aluminium cans and prepare them for baling. Gianni Koromia; 1660 Pallouriotissa\, Nicosia
URL:https://cansforkids.org/event/can-sorting-10-00-12-00-94/
LOCATION:Cans For Kids Recycling Centre\, Gianni Koromia\, Pallouriotissa\, Nicosia\, 1660\, Cyprus
CATEGORIES:Events
END:VEVENT
BEGIN:VEVENT
DTSTART;TZID=UTC:20240224T100000
DTEND;TZID=UTC:20240224T120000
DTSTAMP:20260422T224520
CREATED:20240129T055618Z
LAST-MODIFIED:20240129T055618Z
UID:4482-1708768800-1708776000@cansforkids.org
SUMMARY:Can sorting 10.00-12.00
DESCRIPTION:Volunteers are always needed at our recycling centre to help us separate the steel from aluminium cans and prepare them for baling. Gianni Koromia; 1660 Pallouriotissa\, Nicosia
URL:https://cansforkids.org/event/can-sorting-10-00-12-00-95/
LOCATION:Cans For Kids Recycling Centre\, Gianni Koromia\, Pallouriotissa\, Nicosia\, 1660\, Cyprus
CATEGORIES:Events
END:VEVENT
END:VCALENDAR