BEGIN:VCALENDAR
VERSION:2.0
PRODID:-//Cans For Kids - ECPv6.14.2//NONSGML v1.0//EN
CALSCALE:GREGORIAN
METHOD:PUBLISH
X-WR-CALNAME:Cans For Kids
X-ORIGINAL-URL:https://cansforkids.org
X-WR-CALDESC:Events for Cans For Kids
REFRESH-INTERVAL;VALUE=DURATION:PT1H
X-Robots-Tag:noindex
X-PUBLISHED-TTL:PT1H
BEGIN:VTIMEZONE
TZID:UTC
BEGIN:STANDARD
TZOFFSETFROM:+0000
TZOFFSETTO:+0000
TZNAME:UTC
DTSTART:20240101T000000
END:STANDARD
END:VTIMEZONE
BEGIN:VEVENT
DTSTART;TZID=UTC:20240405T200000
DTEND;TZID=UTC:20240405T230000
DTSTAMP:20260423T020300
CREATED:20240307T184328Z
LAST-MODIFIED:20240325T091354Z
UID:4517-1712347200-1712358000@cansforkids.org
SUMMARY:Quiz Night
DESCRIPTION:Please note new venue! Yummy snacks and platters available. €5 entry fee per person; teams of six\, please\, or come on your own and join a team. It’s a fun way to meet new people.
URL:https://cansforkids.org/event/quiz-night-6/
LOCATION:Καφενείο η μικρή Ροδιά Πλατεία Κυριάκου Καραολή 5 2108 Nicosia\, Πλατεία Κυριάκου Καραολή 5 2108 Nicosia\, Nicosia\, Cyprus
END:VEVENT
BEGIN:VEVENT
DTSTART;TZID=UTC:20240406T100000
DTEND;TZID=UTC:20240406T120000
DTSTAMP:20260423T020300
CREATED:20240307T185008Z
LAST-MODIFIED:20240307T185008Z
UID:4521-1712397600-1712404800@cansforkids.org
SUMMARY:Can sorting 10.00-12.00
DESCRIPTION:Volunteers are always needed at our recycling centre to help us separate the steel from aluminium cans and prepare them for baling. Gianni Koromia; 1660 Pallouriotissa\, Nicosia
URL:https://cansforkids.org/event/can-sorting-10-00-12-00-101/
LOCATION:Cans For Kids Recycling Centre\, Gianni Koromia\, Pallouriotissa\, Nicosia\, 1660\, Cyprus
CATEGORIES:Events
END:VEVENT
BEGIN:VEVENT
DTSTART;TZID=UTC:20240413T100000
DTEND;TZID=UTC:20240413T120000
DTSTAMP:20260423T020300
CREATED:20240325T085656Z
LAST-MODIFIED:20240325T085656Z
UID:4525-1713002400-1713009600@cansforkids.org
SUMMARY:Can sorting 10.00-12.00
DESCRIPTION:Volunteers are always needed at our recycling centre to help us separate the steel from aluminium cans and prepare them for baling. Gianni Koromia; 1660 Pallouriotissa\, Nicosia
URL:https://cansforkids.org/event/can-sorting-10-00-12-00-102/
LOCATION:Cans For Kids Recycling Centre\, Gianni Koromia\, Pallouriotissa\, Nicosia\, 1660\, Cyprus
CATEGORIES:Events
END:VEVENT
BEGIN:VEVENT
DTSTART;TZID=UTC:20240415T200000
DTEND;TZID=UTC:20240415T220000
DTSTAMP:20260423T020300
CREATED:20240325T091118Z
LAST-MODIFIED:20240325T091118Z
UID:4533-1713211200-1713218400@cansforkids.org
SUMMARY:Greek Quiz Night
DESCRIPTION:Our fun quiz night for Greek speakers!
URL:https://cansforkids.org/event/greek-quiz-night-2/
LOCATION:Ταβέρνα “Φιλοθέα”\, Cyprus
END:VEVENT
BEGIN:VEVENT
DTSTART;TZID=UTC:20240420T100000
DTEND;TZID=UTC:20240420T120000
DTSTAMP:20260423T020300
CREATED:20240325T085729Z
LAST-MODIFIED:20240325T085729Z
UID:4527-1713607200-1713614400@cansforkids.org
SUMMARY:Can sorting 10.00-12.00
DESCRIPTION:Volunteers are always needed at our recycling centre to help us separate the steel from aluminium cans and prepare them for baling. Gianni Koromia; 1660 Pallouriotissa\, Nicosia
URL:https://cansforkids.org/event/can-sorting-10-00-12-00-103/
LOCATION:Cans For Kids Recycling Centre\, Gianni Koromia\, Pallouriotissa\, Nicosia\, 1660\, Cyprus
CATEGORIES:Events
END:VEVENT
BEGIN:VEVENT
DTSTART;TZID=UTC:20240427T100000
DTEND;TZID=UTC:20240427T120000
DTSTAMP:20260423T020300
CREATED:20240325T085806Z
LAST-MODIFIED:20240325T085806Z
UID:4529-1714212000-1714219200@cansforkids.org
SUMMARY:Can sorting 10.00-12.00
DESCRIPTION:Volunteers are always needed at our recycling centre to help us separate the steel from aluminium cans and prepare them for baling. Gianni Koromia; 1660 Pallouriotissa\, Nicosia
URL:https://cansforkids.org/event/can-sorting-10-00-12-00-104/
LOCATION:Cans For Kids Recycling Centre\, Gianni Koromia\, Pallouriotissa\, Nicosia\, 1660\, Cyprus
CATEGORIES:Events
END:VEVENT
END:VCALENDAR