BEGIN:VCALENDAR
VERSION:2.0
PRODID:-//Cans For Kids - ECPv6.14.2//NONSGML v1.0//EN
CALSCALE:GREGORIAN
METHOD:PUBLISH
X-WR-CALNAME:Cans For Kids
X-ORIGINAL-URL:https://cansforkids.org
X-WR-CALDESC:Events for Cans For Kids
REFRESH-INTERVAL;VALUE=DURATION:PT1H
X-Robots-Tag:noindex
X-PUBLISHED-TTL:PT1H
BEGIN:VTIMEZONE
TZID:UTC
BEGIN:STANDARD
TZOFFSETFROM:+0000
TZOFFSETTO:+0000
TZNAME:UTC
DTSTART:20240101T000000
END:STANDARD
END:VTIMEZONE
BEGIN:VEVENT
DTSTART;TZID=UTC:20240601T100000
DTEND;TZID=UTC:20240601T120000
DTSTAMP:20260423T050353
CREATED:20240325T094146Z
LAST-MODIFIED:20240325T094146Z
UID:4540-1717236000-1717243200@cansforkids.org
SUMMARY:Can sorting 10.00-12.00
DESCRIPTION:Volunteers are always needed at our recycling centre to help us separate the steel from aluminium cans and prepare them for baling. Gianni Koromia; 1660 Pallouriotissa\, Nicosia
URL:https://cansforkids.org/event/can-sorting-10-00-12-00-108/
LOCATION:Cans For Kids Recycling Centre\, Gianni Koromia\, Pallouriotissa\, Nicosia\, 1660\, Cyprus
CATEGORIES:Events
END:VEVENT
BEGIN:VEVENT
DTSTART;TZID=UTC:20240607T200000
DTEND;TZID=UTC:20240607T230000
DTSTAMP:20260423T050353
CREATED:20240515T084301Z
LAST-MODIFIED:20240515T084301Z
UID:4549-1717790400-1717801200@cansforkids.org
SUMMARY:Quiz Night
DESCRIPTION:Please note new venue! Yummy snacks and platters available. €5 entry fee per person; teams of six\, please\, or come on your own and join a team. It’s a fun way to meet new people.
URL:https://cansforkids.org/event/quiz-night-8/
LOCATION:Καφενείο η μικρή Ροδιά Πλατεία Κυριάκου Καραολή 5 2108 Nicosia\, Πλατεία Κυριάκου Καραολή 5 2108 Nicosia\, Nicosia\, Cyprus
END:VEVENT
BEGIN:VEVENT
DTSTART;TZID=UTC:20240608T100000
DTEND;TZID=UTC:20240608T120000
DTSTAMP:20260423T050353
CREATED:20240515T112142Z
LAST-MODIFIED:20240515T112142Z
UID:4551-1717840800-1717848000@cansforkids.org
SUMMARY:Can sorting 10.00-12.00
DESCRIPTION:Volunteers are always needed at our recycling centre to help us separate the steel from aluminium cans and prepare them for baling. Gianni Koromia; 1660 Pallouriotissa\, Nicosia
URL:https://cansforkids.org/event/can-sorting-10-00-12-00-109/
LOCATION:Cans For Kids Recycling Centre\, Gianni Koromia\, Pallouriotissa\, Nicosia\, 1660\, Cyprus
CATEGORIES:Events
END:VEVENT
BEGIN:VEVENT
DTSTART;TZID=UTC:20240615T100000
DTEND;TZID=UTC:20240615T120000
DTSTAMP:20260423T050353
CREATED:20240515T112410Z
LAST-MODIFIED:20240515T112410Z
UID:4553-1718445600-1718452800@cansforkids.org
SUMMARY:Can sorting 10.00-12.00
DESCRIPTION:Volunteers are always needed at our recycling centre to help us separate the steel from aluminium cans and prepare them for baling. Gianni Koromia; 1660 Pallouriotissa\, Nicosia
URL:https://cansforkids.org/event/can-sorting-10-00-12-00-110/
LOCATION:Cans For Kids Recycling Centre\, Gianni Koromia\, Pallouriotissa\, Nicosia\, 1660\, Cyprus
CATEGORIES:Events
END:VEVENT
BEGIN:VEVENT
DTSTART;TZID=UTC:20240617T200000
DTEND;TZID=UTC:20240617T220000
DTSTAMP:20260423T050353
CREATED:20240515T163416Z
LAST-MODIFIED:20240515T163416Z
UID:4565-1718654400-1718661600@cansforkids.org
SUMMARY:Greek Quiz Night
DESCRIPTION:Our fun quiz night for Greek speakers!
URL:https://cansforkids.org/event/greek-quiz-night-3/
LOCATION:Ταβέρνα “Φιλοθέα”\, Cyprus
END:VEVENT
BEGIN:VEVENT
DTSTART;TZID=UTC:20240622T100000
DTEND;TZID=UTC:20240622T120000
DTSTAMP:20260423T050353
CREATED:20240515T112435Z
LAST-MODIFIED:20240515T112435Z
UID:4555-1719050400-1719057600@cansforkids.org
SUMMARY:Can sorting 10.00-12.00
DESCRIPTION:Volunteers are always needed at our recycling centre to help us separate the steel from aluminium cans and prepare them for baling. Gianni Koromia; 1660 Pallouriotissa\, Nicosia
URL:https://cansforkids.org/event/can-sorting-10-00-12-00-111/
LOCATION:Cans For Kids Recycling Centre\, Gianni Koromia\, Pallouriotissa\, Nicosia\, 1660\, Cyprus
CATEGORIES:Events
END:VEVENT
BEGIN:VEVENT
DTSTART;TZID=UTC:20240629T100000
DTEND;TZID=UTC:20240629T120000
DTSTAMP:20260423T050353
CREATED:20240515T112456Z
LAST-MODIFIED:20240515T112456Z
UID:4557-1719655200-1719662400@cansforkids.org
SUMMARY:Can sorting 10.00-12.00
DESCRIPTION:Volunteers are always needed at our recycling centre to help us separate the steel from aluminium cans and prepare them for baling. Gianni Koromia; 1660 Pallouriotissa\, Nicosia
URL:https://cansforkids.org/event/can-sorting-10-00-12-00-112/
LOCATION:Cans For Kids Recycling Centre\, Gianni Koromia\, Pallouriotissa\, Nicosia\, 1660\, Cyprus
CATEGORIES:Events
END:VEVENT
END:VCALENDAR